BEGIN:VCALENDAR
VERSION:2.0
PRODID:-//Discover Frome - ECPv4.6.26//NONSGML v1.0//EN
CALSCALE:GREGORIAN
METHOD:PUBLISH
X-WR-CALNAME:Discover Frome
X-ORIGINAL-URL:https://archive.discoverfrome.co.uk
X-WR-CALDESC:Events for Discover Frome
BEGIN:VEVENT
DTSTART;TZID=Europe/London:20230616T100000
DTEND;TZID=Europe/London:20230616T160000
DTSTAMP:20260419T125518
CREATED:20230502T132259Z
LAST-MODIFIED:20230502T132259Z
UID:59813-1686909600-1686931200@archive.discoverfrome.co.uk
SUMMARY:Flax Workshop
DESCRIPTION:\n\nA one day group workshop all about flax led by Flaxland from Stroud. \nDesigned both for beginners and those with some knowledge\, this workshop has lots of hands on processes using flax. \n\nIntroductions – what is flax – its many uses – flax’s multiple benefits to individuals and the planet – history and future of flax in the UK.\nDemo of how to sow\, grow\, harvest and ret flax.\nHands on sessions – harvesting the seeds\, processing the straw\, extracting fibres – breaking – scutching – hackling – make a twist of flax to take home or use.\nDressing a distaff introduction to drop spindle to spin line\, twisting tow (short fibres) to make a garden twine.\n\nThis special workshop is being hosted by Future Shed and Everyone Needs Pockets Textile Reuse Network as part of the Green & Healthy Frome programme on climate and health. \nWe want to understand more about natural fibres that can be grow in the UK\, and the processes\, challenges and benefits associated with this natural fibre\, flax. \n\n\n\n\nTicket pricing: \nFull price: £25.00 (plus the Eventbrite booking fee) \nFor those on low incomes: £10.00 (includes the Eventbrite booking fee) \nIf you want to attend but find the cost prohibitive\, please contact the event organiser and we will do our best to provide a free place. \nThis workshop is supported by the Climate Action Funded through Green & Healthy Future Frome. \nBook your place. \nPart of Great Big Green Week 2023. \n\n\n
URL:https://archive.discoverfrome.co.uk/event/flax-workshop/
LOCATION:Vallis Farm\, Egford Hill\, Frome\, BA11 3JQ\, United Kingdom
CATEGORIES:Clothing & Textiles,crafts,Discover Frome,Great Big Green Week,Workshop
ATTACH;FMTTYPE=image/jpeg:https://archive.discoverfrome.co.uk/wp-content/uploads/2023/05/Flax-workshop.jpg
ORGANIZER;CN="Future%20Shed%20Frome":MAILTO:greenhealth@edventurefrome.org
END:VEVENT
END:VCALENDAR