BEGIN:VCALENDAR
VERSION:2.0
PRODID:-//Discover Frome - ECPv4.6.26//NONSGML v1.0//EN
CALSCALE:GREGORIAN
METHOD:PUBLISH
X-WR-CALNAME:Discover Frome
X-ORIGINAL-URL:https://archive.discoverfrome.co.uk
X-WR-CALDESC:Events for Discover Frome
BEGIN:VEVENT
DTSTART;TZID=Europe/London:20231118T130000
DTEND;TZID=Europe/London:20231118T150000
DTSTAMP:20260421T131109
CREATED:20231107T122531Z
LAST-MODIFIED:20231109T153119Z
UID:63367-1700312400-1700319600@archive.discoverfrome.co.uk
SUMMARY:Forever Tinsel & Bauble Making Workshop
DESCRIPTION:This Christmas SHARE will be looking to raise vital funds by running Christmas workshops focused on making your Christmas 2023 a beautiful\, practical AND sustainable one. \nOur ‘Forever Tinsel and Bauble’ workshop tickets are available for a donation of £20 and perfect for those of you who can only commit a couple of hours in the run up to a busy Christmas. Nothing we will be doing in our workshops is tricky so everybody can come\, have fun and relax in the knowledge that they will come away with something lovely at the end. \nDuring the workshop we will meet at SHARE Frome Library of Things to spend a therapeutic couple of hours choosing from delicious fabrics and ribbons and then simply sitting\, knotting and sipping tea until you have created a beautiful\, quality and forever lasting tinsel and matching baubles that will give your Christmas living room a touch of class or make a great sustainable\, forever gift for somebody you love. \nThere are only 10 spaces on this workshop so please book as soon as you know you’d like to come. And in the meantime\, if we have forgotten anything and you have questions for us then you can email Jess on office@sharefrome.org. \nCLICK HERE TO BOOK YOUR SPACE – https://www.eventbrite.com/e/forever-tinsel-bauble-making-workshop-18-nov-tickets-737579228327?aff=odcleoeventsincollection&keep_tld=1 \n
URL:https://archive.discoverfrome.co.uk/event/forever-tinsel-bauble-making-workshop/2023-11-18/
LOCATION:Share – A Library of Things\, 3A The Bridge\, Market Place\, Frome\, England\, BA11 1AR\, United Kingdom
CATEGORIES:Christmas,crafts,Discover Frome,Fundraiser,Sustainability,Workshop
ATTACH;FMTTYPE=image/jpeg:https://archive.discoverfrome.co.uk/wp-content/uploads/2023/11/Tinsel-Baubles.jpg
END:VEVENT
END:VCALENDAR