BEGIN:VCALENDAR
VERSION:2.0
PRODID:-//Discover Frome - ECPv4.6.26//NONSGML v1.0//EN
CALSCALE:GREGORIAN
METHOD:PUBLISH
X-WR-CALNAME:Discover Frome
X-ORIGINAL-URL:https://archive.discoverfrome.co.uk
X-WR-CALDESC:Events for Discover Frome
BEGIN:VEVENT
DTSTART;TZID=Europe/London:20240202T190000
DTEND;TZID=Europe/London:20240202T210000
DTSTAMP:20260419T213620
CREATED:20240130T163638Z
LAST-MODIFIED:20240130T163638Z
UID:67345-1706900400-1706907600@archive.discoverfrome.co.uk
SUMMARY:Friday Night Dance
DESCRIPTION:✨Dear dancers✨ \nWe dance again this Friday!! 🤗 \nTickets are £10 via paypal: paypal.me/rosievonspreckelsen \nPlease select *FRIENDS & FAMILY* option! \nor £12 on the door \nThe Mycelium space\, through the gallery and up the stairs at the Station:\nSTATION APPROACH\, FROME\, BA11 1RE \nArrive 7pm for opening circle at 7:15\nFinish 9pm for closing\, integration and chat. \nI’m really looking forward to dancing in the Imbolc energy\, as we straddle deep winter and new beginnings. I’d love to share it with you ✨🌱✨ \nBody and Soul\,\nLove and Dance\, \n💛Only.Now.Exists.💛 \n
URL:https://archive.discoverfrome.co.uk/event/friday-night-dance/
LOCATION:Mycelium Space\, Station Approach\, Frome\, Somerset\, BA11 1RE\, United Kingdom
CATEGORIES:Community,Dance,Discover Frome,Health & Wellbeing,social
ATTACH;FMTTYPE=image/jpeg:https://archive.discoverfrome.co.uk/wp-content/uploads/2024/01/friday-dance.jpeg
ORGANIZER;CN="Only%20Now%20Exists":MAILTO:mail_rosie@yahoo.com
END:VEVENT
END:VCALENDAR