BEGIN:VCALENDAR
VERSION:2.0
PRODID:-//Discover Frome - ECPv4.6.26//NONSGML v1.0//EN
CALSCALE:GREGORIAN
METHOD:PUBLISH
X-WR-CALNAME:Discover Frome
X-ORIGINAL-URL:https://archive.discoverfrome.co.uk
X-WR-CALDESC:Events for Discover Frome
BEGIN:VEVENT
DTSTART;TZID=Europe/London:20240924T190000
DTEND;TZID=Europe/London:20240924T223000
DTSTAMP:20260419T235830
CREATED:20240813T165906Z
LAST-MODIFIED:20240813T165906Z
UID:71546-1727204400-1727217000@archive.discoverfrome.co.uk
SUMMARY:Frome Charity Fashion Show
DESCRIPTION:We are delighted to present a fashion show for 3 Charity Shops in Frome – Rotary\, Barnardos and Dorothy House. There will be a huge collection of beautiful clothes modelled featuring all sizes and ages. These can be purchased on the night at very reasonable prices. There will also be a variety of stalls for you to look around and treat yourself to something. The Bar will be open so enjoy a glass of Prosecco or a special cocktail along with any other favourite drink. Tri Art Dance School will provide some lovely entertainment during the show. So come along for a fun filled night. All profit goes to these charities. \n
URL:https://archive.discoverfrome.co.uk/event/frome-charity-fashion-show/
LOCATION:Cheese and Grain\, Market Yard\, Frome\, BA11 1BE
GEO:51.2318708;-2.3202807
X-APPLE-STRUCTURED-LOCATION;VALUE=URI;X-ADDRESS=Cheese and Grain Market Yard Frome BA11 1BE;X-APPLE-RADIUS=500;X-TITLE=Market Yard:geo:-2.3202807,51.2318708
CATEGORIES:Charity Event,Clothing & Textiles,Discover Frome,Ladies Night,Shopping,Sustainability
ATTACH;FMTTYPE=image/jpeg:https://archive.discoverfrome.co.uk/wp-content/uploads/2024/08/Fashion-show-banner-1536x707-1.jpg
END:VEVENT
END:VCALENDAR