BEGIN:VCALENDAR
VERSION:2.0
PRODID:-//Discover Frome - ECPv4.6.26//NONSGML v1.0//EN
CALSCALE:GREGORIAN
METHOD:PUBLISH
X-WR-CALNAME:Discover Frome
X-ORIGINAL-URL:https://archive.discoverfrome.co.uk
X-WR-CALDESC:Events for Discover Frome
BEGIN:VEVENT
DTSTART;TZID=Europe/London:20240303T141500
DTEND;TZID=Europe/London:20240303T160000
DTSTAMP:20260420T032412
CREATED:20231214T132923Z
LAST-MODIFIED:20231214T132923Z
UID:66014-1709475300-1709481600@archive.discoverfrome.co.uk
SUMMARY:Frome Concerts Group present: Trio Klein
DESCRIPTION:Kamila Bydlowska – Violin\, Shiry Rashkovsky – Viola\, Ella Rundle – Cello \nA trio of award winning and critically acclaimed musicians. Achieving astounding early success\, Trio Klein perform extensively in the UK and internationally and frequently feature on Radio 3. A ground breaking concert which places a string trio by Schnitte alongside arrangments of John Adams and ends with Bach’s sublime Goldberg Variations. \n
URL:https://archive.discoverfrome.co.uk/event/frome-concerts-group-present-trio-klein/
LOCATION:Rook Lane Chapel\, Rook Lane\, Bath Street\, Frome\, BA11 1DN
GEO:51.2292873;-2.3227339
X-APPLE-STRUCTURED-LOCATION;VALUE=URI;X-ADDRESS=Rook Lane Chapel Rook Lane Bath Street Frome BA11 1DN;X-APPLE-RADIUS=500;X-TITLE=Rook Lane\, Bath Street:geo:-2.3227339,51.2292873
CATEGORIES:Concert,Discover Frome,Live Band,Music
ATTACH;FMTTYPE=image/jpeg:https://archive.discoverfrome.co.uk/wp-content/uploads/2023/12/solis-trio.jpg
END:VEVENT
END:VCALENDAR