BEGIN:VCALENDAR
VERSION:2.0
PRODID:-//Discover Frome - ECPv4.6.26//NONSGML v1.0//EN
CALSCALE:GREGORIAN
METHOD:PUBLISH
X-WR-CALNAME:Discover Frome
X-ORIGINAL-URL:https://archive.discoverfrome.co.uk
X-WR-CALDESC:Events for Discover Frome
BEGIN:VEVENT
DTSTART;TZID=Europe/London:20230712T193000
DTEND;TZID=Europe/London:20230712T223000
DTSTAMP:20260419T141613
CREATED:20230525T173635Z
LAST-MODIFIED:20230525T173635Z
UID:61089-1689190200-1689201000@archive.discoverfrome.co.uk
SUMMARY:Frome Festival Quiz
DESCRIPTION:Fancy a fun night out while exercising those little grey cells? \nBring a team to experience a stimulating evening led by charismatic quiz master Paul Hewitt – as seen on TV. \nThe winning team will receive the Martin Bax shield (until next year’s quiz!)\, 4 bottles of wine and individual miniature shields to keep. Prizes for runners up and the bottom 2 teams. \nRaffle with prizes donated by local businesses. \n£12.00 for a table of 4. \n
URL:https://archive.discoverfrome.co.uk/event/frome-festival-quiz-4/
LOCATION:Frome Rugby Club\, Gypsy Lane\, Frome\, BA11 2NA
GEO:51.2438814;-2.3049049
X-APPLE-STRUCTURED-LOCATION;VALUE=URI;X-ADDRESS=Frome Rugby Club Gypsy Lane Frome BA11 2NA;X-APPLE-RADIUS=500;X-TITLE=Gypsy Lane:geo:-2.3049049,51.2438814
CATEGORIES:Discover Frome,Frome Community,Frome Festival,Quiz
ATTACH;FMTTYPE=image/jpeg:https://archive.discoverfrome.co.uk/wp-content/uploads/2023/05/Quiz-neon-sign.jpg
ORGANIZER;CN="Frome%20Festival":MAILTO:office@fromefestival.co.uk
END:VEVENT
END:VCALENDAR