BEGIN:VCALENDAR
VERSION:2.0
PRODID:-//Discover Frome - ECPv4.6.26//NONSGML v1.0//EN
CALSCALE:GREGORIAN
METHOD:PUBLISH
X-WR-CALNAME:Discover Frome
X-ORIGINAL-URL:https://archive.discoverfrome.co.uk
X-WR-CALDESC:Events for Discover Frome
BEGIN:VEVENT
DTSTART;TZID=Europe/London:20250713T133000
DTEND;TZID=Europe/London:20250713T153000
DTSTAMP:20260421T062119
CREATED:20250522T155352Z
LAST-MODIFIED:20250522T155352Z
UID:80319-1752413400-1752420600@archive.discoverfrome.co.uk
SUMMARY:Frome Festival Short Story Competition Prize-Giving
DESCRIPTION:Celebrate the talents of writers of all ages as the winners of the Young Writer Competition and the local Writers in Residence contest are announced and prizes awarded. Best-selling author Jennie Godfrey will then reveal the winning entries in the Frome Festival Short Story Competition and present the prizes. Winning stories will be read. \n
URL:https://archive.discoverfrome.co.uk/event/frome-festival-short-story-competition-prize-giving/
LOCATION:Merlin Theatre\, Bath Road\, Frome\, BA11 2HG 
GEO:51.2412644;-2.3118242
X-APPLE-STRUCTURED-LOCATION;VALUE=URI;X-ADDRESS=Merlin Theatre Bath Road Frome BA11 2HG;X-APPLE-RADIUS=500;X-TITLE=Bath Road:geo:-2.3118242,51.2412644
CATEGORIES:Children,Discover Frome,Family,Frome Festival
ATTACH;FMTTYPE=image/jpeg:https://archive.discoverfrome.co.uk/wp-content/uploads/2025/05/0708-Jennie-Godfrey-scaled-e1711116512752.jpg
ORGANIZER;CN="Frome%20Festival":MAILTO:office@fromefestival.co.uk
END:VEVENT
END:VCALENDAR