BEGIN:VCALENDAR
VERSION:2.0
PRODID:-//Discover Frome - ECPv4.6.26//NONSGML v1.0//EN
CALSCALE:GREGORIAN
METHOD:PUBLISH
X-WR-CALNAME:Discover Frome
X-ORIGINAL-URL:https://archive.discoverfrome.co.uk
X-WR-CALDESC:Events for Discover Frome
BEGIN:VEVENT
DTSTART;TZID=Europe/London:20230520T150000
DTEND;TZID=Europe/London:20230520T163000
DTSTAMP:20260420T032250
CREATED:20230504T122920Z
LAST-MODIFIED:20230504T122920Z
UID:59968-1684594800-1684600200@archive.discoverfrome.co.uk
SUMMARY:Frome Heritage Tree Walk
DESCRIPTION:Join local author and heritage tree specialist Julian Hight on a walk to see some of Frome’s most majestic trees\, and hear about their history and lore. \nStarting outside Frome Library\, the easy walk will include Millennium Green\, Rodden Meadow and Willow Vale\, and take around 90 minutes. \nJulian’s interest in trees started at a young age – growing up next to woodland which had a profound effect on him. He travels widely\, camera in hand\, to document historic ancient trees\, resulting in three books; Britain’s Tree Story\, World Tree Story\, and most recently Britain’s Ancient Forest. \nJulian presents regular talks on the subject\, including an appearance on Channel 4’s Tree of the Year TV programme. Chair of Wessex Ancient Tree Forum\, he also campaigns to save threatened trees and ancient woodland\, and started the Reviving Selwood Forest project to plant oaks grown from Selwood Forest’s most ancient specimens. \nFind out more at www.worldtreestory.co.uk\n \n
URL:https://archive.discoverfrome.co.uk/event/frome-heritage-tree-walk-4/
LOCATION:Outside Frome Library\, Justice Lane\, Frome\, Somerset\, BA11 1BE\, United Kingdom
GEO:51.2327716;-2.3203906
X-APPLE-STRUCTURED-LOCATION;VALUE=URI;X-ADDRESS=Outside Frome Library Justice Lane Frome Somerset BA11 1BE United Kingdom;X-APPLE-RADIUS=500;X-TITLE=Justice Lane:geo:-2.3203906,51.2327716
CATEGORIES:Discover Frome,Frome Local History Festival,Guided Walks,Walks
ATTACH;FMTTYPE=image/jpeg:https://archive.discoverfrome.co.uk/wp-content/uploads/2023/05/picking-up-acorns.jpg
END:VEVENT
END:VCALENDAR