BEGIN:VCALENDAR
VERSION:2.0
PRODID:-//Discover Frome - ECPv4.6.26//NONSGML v1.0//EN
CALSCALE:GREGORIAN
METHOD:PUBLISH
X-WR-CALNAME:Discover Frome
X-ORIGINAL-URL:https://archive.discoverfrome.co.uk
X-WR-CALDESC:Events for Discover Frome
BEGIN:VEVENT
DTSTART;TZID=Europe/London:20231118T100000
DTEND;TZID=Europe/London:20231118T130000
DTSTAMP:20260421T144024
CREATED:20231019T151207Z
LAST-MODIFIED:20231019T151207Z
UID:63133-1700301600-1700312400@archive.discoverfrome.co.uk
SUMMARY:Frome Memorial Theatre Open Day
DESCRIPTION:A rare opportunity to go behind the scenes of the Frome Memorial Theatre. \nTake a behind the curtain tour of the Frome Memorial Theatre and discover the secrets of one of the best local theatres in the West Country.  Led by one of our volunteers who will take you around and show you the hidden parts of the theatre. \nThis backstage tour is a great chance to go behind the scenes; see the workings of the theatre and walk down memory lane as we chat through the theatre’s fascinating history. \nYou get to try out the latest in theatre technology and use lighting and sound desks. \nThe theatre is run entirely by volunteers and you can learn more about volunteering opportunities in various areas inc backstage\, technical\, kiosk\, box office\, stewarding and more. \n
URL:https://archive.discoverfrome.co.uk/event/frome-memorial-theatre-open-day-2/
LOCATION:Frome Memorial Theatre\, Christchurch Street West\, Frome\, BA11 1EB
GEO:51.2291809;-2.3240101
X-APPLE-STRUCTURED-LOCATION;VALUE=URI;X-ADDRESS=Frome Memorial Theatre Christchurch Street West Frome BA11 1EB;X-APPLE-RADIUS=500;X-TITLE=Christchurch Street West:geo:-2.3240101,51.2291809
CATEGORIES:Children,Community,Discover Frome,Family,Frome Community,History & Heritage,Theatre
ATTACH;FMTTYPE=image/jpeg:https://archive.discoverfrome.co.uk/wp-content/uploads/2023/10/584641A8-E22C-40C7-8930-2C1E85F7AC6D.jpg
END:VEVENT
END:VCALENDAR