BEGIN:VCALENDAR
VERSION:2.0
PRODID:-//Discover Frome - ECPv4.6.26//NONSGML v1.0//EN
CALSCALE:GREGORIAN
METHOD:PUBLISH
X-WR-CALNAME:Discover Frome
X-ORIGINAL-URL:https://archive.discoverfrome.co.uk
X-WR-CALDESC:Events for Discover Frome
BEGIN:VEVENT
DTSTART;TZID=Europe/London:20240103T190000
DTEND;TZID=Europe/London:20240103T220000
DTSTAMP:20260420T010232
CREATED:20231019T143225Z
LAST-MODIFIED:20231019T143225Z
UID:63107-1704308400-1704319200@archive.discoverfrome.co.uk
SUMMARY:Frome Musical Theatre Company presents Snow White & the Seven Dwarfs
DESCRIPTION:This year Frome Musical Theatre Company will be performing one of the greatest fairy tale Pantomimes of all time\, Snow White and the Seven Dwarfs. With a large cast\, spectacular costumes\, set and music\, what more could you want over the festive period. \n
URL:https://archive.discoverfrome.co.uk/event/frome-musical-theatre-company-presents-snow-white-the-seven-dwarfs-9/
LOCATION:Frome Memorial Theatre\, Christchurch Street West\, Frome\, BA11 1EB
GEO:51.2291809;-2.3240101
X-APPLE-STRUCTURED-LOCATION;VALUE=URI;X-ADDRESS=Frome Memorial Theatre Christchurch Street West Frome BA11 1EB;X-APPLE-RADIUS=500;X-TITLE=Christchurch Street West:geo:-2.3240101,51.2291809
CATEGORIES:Children,Christmas,Discover Frome,Family,Music,Theatre
ATTACH;FMTTYPE=image/jpeg:https://archive.discoverfrome.co.uk/wp-content/uploads/2023/10/Snow-White-the-seven-Dwarfs.jpg
END:VEVENT
END:VCALENDAR