BEGIN:VCALENDAR
VERSION:2.0
PRODID:-//Discover Frome - ECPv4.6.26//NONSGML v1.0//EN
CALSCALE:GREGORIAN
METHOD:PUBLISH
X-WR-CALNAME:Discover Frome
X-ORIGINAL-URL:https://archive.discoverfrome.co.uk
X-WR-CALDESC:Events for Discover Frome
BEGIN:VEVENT
DTSTART;TZID=Europe/London:20250601T100000
DTEND;TZID=Europe/London:20250601T150000
DTSTAMP:20260421T125212
CREATED:20250516T152945Z
LAST-MODIFIED:20250516T152945Z
UID:80039-1748772000-1748790000@archive.discoverfrome.co.uk
SUMMARY:Frome Pride 2025: Pride Market
DESCRIPTION:In collaboration with The Frome Independent and Frome Pride Youth\, this year’s Pride event will feature live performances and local traders. \n
URL:https://archive.discoverfrome.co.uk/event/frome-pride-2025-pride-market/
LOCATION:Frome Town Centre
GEO:51.231623663092;-2.3206995621115
CATEGORIES:Children,Community,Concert,Discover Frome,Family,Food & Drink,Frome Pride,Live Band,Market,Music,Shopping
ATTACH;FMTTYPE=image/png:https://archive.discoverfrome.co.uk/wp-content/uploads/2025/05/pride-market.png
ORGANIZER;CN="Frome%20Pride":MAILTO:fromeprideenquiries@gmail.com
END:VEVENT
END:VCALENDAR