BEGIN:VCALENDAR
VERSION:2.0
PRODID:-//Discover Frome - ECPv4.6.26//NONSGML v1.0//EN
CALSCALE:GREGORIAN
METHOD:PUBLISH
X-WR-CALNAME:Discover Frome
X-ORIGINAL-URL:https://archive.discoverfrome.co.uk
X-WR-CALDESC:Events for Discover Frome
BEGIN:VEVENT
DTSTART;TZID=Europe/London:20240525T093000
DTEND;TZID=Europe/London:20240525T120000
DTSTAMP:20260421T123736
CREATED:20240502T104003Z
LAST-MODIFIED:20240522T151910Z
UID:69055-1716629400-1716638400@archive.discoverfrome.co.uk
SUMMARY:Frome Selwood Horticultural Society Annual Plant Sale 2024
DESCRIPTION:Frome Selwood Horticultural Society and Frome in Bloom Annual plant sale at Selwood Academy BA11 2EF. Flowers\, vegetables\, shrubs. Home made cakes and jams. Garden tools and bric-a-brac. \nPLEASE BRING MONEY. Card sales will not be available \nAnd bring your hessian bags and boxes as well. \n
URL:https://archive.discoverfrome.co.uk/event/frome-selwood-horticultural-society-annual-plant-sale-2024/
LOCATION:Selwood Academy\, Berkley Road\, Frome\, BA11 2EF
GEO:51.236209;-2.3055026
X-APPLE-STRUCTURED-LOCATION;VALUE=URI;X-ADDRESS=Selwood Academy Berkley Road Frome BA11 2EF;X-APPLE-RADIUS=500;X-TITLE=Berkley Road:geo:-2.3055026,51.236209
CATEGORIES:Discover Frome,Food & Drink,Gardens,Market,Nature,Shopping
ATTACH;FMTTYPE=image/jpeg:https://archive.discoverfrome.co.uk/wp-content/uploads/2024/05/Picture-1.jpg
END:VEVENT
END:VCALENDAR