BEGIN:VCALENDAR
VERSION:2.0
PRODID:-//Discover Frome - ECPv4.6.26//NONSGML v1.0//EN
CALSCALE:GREGORIAN
METHOD:PUBLISH
X-WR-CALNAME:Discover Frome
X-ORIGINAL-URL:https://archive.discoverfrome.co.uk
X-WR-CALDESC:Events for Discover Frome
BEGIN:VEVENT
DTSTART;TZID=Europe/London:20230611T133400
DTEND;TZID=Europe/London:20230611T164500
DTSTAMP:20260421T095444
CREATED:20230509T114728Z
LAST-MODIFIED:20230509T114728Z
UID:60072-1686490440-1686501900@archive.discoverfrome.co.uk
SUMMARY:Frome Walkers June Walk 2023
DESCRIPTION:Join the Frome Walkers for their June walk on Sunday 11th around Kingston Deverill. \nStart time 1.45pm from St Mary’s Church\, Kingston Deverill\, Warminster\,  BA12 7HE \nThe walk is approximately 5.7 miles and could take up to 3 hours. \nFor further information please contact Mary on 07780 387045. \n
URL:https://archive.discoverfrome.co.uk/event/frome-walkers-june-walk-2023/
CATEGORIES:Discover Frome,Walks
ATTACH;FMTTYPE=image/jpeg:https://archive.discoverfrome.co.uk/wp-content/uploads/2017/06/GGIA-SavoringWalk.jpg
END:VEVENT
END:VCALENDAR