BEGIN:VCALENDAR
VERSION:2.0
PRODID:-//Discover Frome - ECPv4.6.26//NONSGML v1.0//EN
CALSCALE:GREGORIAN
METHOD:PUBLISH
X-WR-CALNAME:Discover Frome
X-ORIGINAL-URL:https://archive.discoverfrome.co.uk
X-WR-CALDESC:Events for Discover Frome
BEGIN:VEVENT
DTSTART;TZID=Europe/London:20250410T190000
DTEND;TZID=Europe/London:20250410T203000
DTSTAMP:20260419T141613
CREATED:20250320T130509Z
LAST-MODIFIED:20250320T130509Z
UID:75564-1744311600-1744317000@archive.discoverfrome.co.uk
SUMMARY:Future Shed Learning: How to run a small event or workshop\, with Sue Palmer
DESCRIPTION:A Future Shed learning session for those who want to learn about organising and leading a small event or workshop \nBooking on Eventbrite: https://www.eventbrite.co.uk/e/future-shed-learning-how-to-run-a-small-event-or-workshop-with-sue-palmer-tickets-1256388444659? \nA Future Shed Training session aimed fot people wanting to run a workshop or small event. This training is focused on activities for ages 16+ (it won’t go into the additional provision needed for working with children). \n\n\nWhat you will learn: \n\nhow to begin planning and structuring\nhow to organise your content\, and what to focus on\ntimings and scheduling\ncommunciations\, publicity and marketing including ticketing\nparticipants and audiences\nthinking through inclusivity\nwhat you need to know about insurance and risk assessments\npolicies that you need in place\, including safeguarding\nincluding climate\, wellbeing\, and the environment in your thinking and your work\nmanaging problems\ndocumentation\, evaluation\, and follow-up\n\nWho is this for: \n\nanyone in Frome and surrounding communities who are connected to Green & Healthy Frome.\nages 18+\n\nThis training session will aim to give you a good ‘how to’ grounding. \nCome to Edventure’s Hub ready for a 7pm start. \n\n\n\n\nFuture Shed is part of Green & Healthy Frome\, a partnership programme of Edventure Frome\, Frome Medical Practice and Frome Town Council taking action on health and climate funded by the National Lottery’s Climate Action Fund. \nFuture Shed is part of Edventure Frome. \nFuture Shed is about ideas and connections\, collectives and enterprise – we are cooking up ideas and ventures to make real change around climate and wellbeing. This is a space to meet up\, connect and build relationships to effect change. Come with your own idea\, or join someone else’s. It doesn’t matter what stage you’re at\, whether you’re already in the thick of a venture or just toying with an idea\, or you’re passionate about making a difference but not sure where to start? Everyone’s welcome. \n\n\n\n\nFurther support from Future Shed on offer: \n🌱 free 121 coaching from a qualified social enterprise coach with a wealth of experience of starting social enterprises and community projects in Frome and beyond. \n🌱 free 121 support to access funding from a Frome-based professional fundraiser with 25 years experience of working on both sides of the fundraising fence. \n🌱 making connections with others across Frome who are focusing on wellbeing and climate action\, who could help you open new doors\, learn new skills and move your idea on a step. \nIf you’d like more information about what the Future Shed offers\, contact Sue Palmer\, Future Shed Lead: sue@edventurefrome.org / 07434 898059. \n\n\n
URL:https://archive.discoverfrome.co.uk/event/future-shed-learning-how-to-run-a-small-event-or-workshop-with-sue-palmer/
LOCATION:Edventure: Frome\, The Welsh Mill Hub\, Frome\, England\, BA11 2LE
ATTACH;FMTTYPE=image/avif:https://archive.discoverfrome.co.uk/wp-content/uploads/2025/03/https___cdn.evbuc_.com_images_966085833_612590212223_1_original.avif
ORGANIZER;CN="Future%20Shed%20Frome":MAILTO:greenhealth@edventurefrome.org
END:VEVENT
END:VCALENDAR