BEGIN:VCALENDAR
VERSION:2.0
PRODID:-//Discover Frome - ECPv4.6.26//NONSGML v1.0//EN
CALSCALE:GREGORIAN
METHOD:PUBLISH
X-WR-CALNAME:Discover Frome
X-ORIGINAL-URL:https://archive.discoverfrome.co.uk
X-WR-CALDESC:Events for Discover Frome
BEGIN:VEVENT
DTSTART;TZID=Europe/London:20240209T180000
DTEND;TZID=Europe/London:20240209T223000
DTSTAMP:20260419T222951
CREATED:20240131T165211Z
LAST-MODIFIED:20240131T165211Z
UID:67470-1707501600-1707517800@archive.discoverfrome.co.uk
SUMMARY:Galentine's at Still Sisters Frome Distillery
DESCRIPTION:Gather the Gals for a Galentine’s Celebration in Frome! \nEmbrace the rebel spirit of Galentine’s Day and celebrate your friendships in style. \nJoin us in Frome on 9th February for an unforgettable evening filled with special cocktails and sensational small plates crafted by Trowbridge’s award-winning Michelin star trained chef\, Dean. \nEnjoy three small plates paired with our award-winning Gins. A night to tantalise your tastebuds! This is a 2.5-hour experience. \n
URL:https://archive.discoverfrome.co.uk/event/galentines-at-still-sisters-frome-distillery/
LOCATION:Still Sisters Frome Distillery\, Ashton Park\, Handlemaker Road\, Frome\, Somerset\, BA11 4RW\, United Kingdom
CATEGORIES:Discover Frome,Food & Drink,Ladies Night,Valentines Day,Women
ATTACH;FMTTYPE=image/jpeg:https://archive.discoverfrome.co.uk/wp-content/uploads/2024/01/galentines.jpg
END:VEVENT
END:VCALENDAR