BEGIN:VCALENDAR
VERSION:2.0
PRODID:-//Discover Frome - ECPv4.6.26//NONSGML v1.0//EN
CALSCALE:GREGORIAN
METHOD:PUBLISH
X-WR-CALNAME:Discover Frome
X-ORIGINAL-URL:https://archive.discoverfrome.co.uk
X-WR-CALDESC:Events for Discover Frome
BEGIN:VEVENT
DTSTART;TZID=Europe/London:20250530T190000
DTEND;TZID=Europe/London:20250530T223000
DTSTAMP:20260421T111416
CREATED:20250422T161555Z
LAST-MODIFIED:20250422T161555Z
UID:79553-1748631600-1748644200@archive.discoverfrome.co.uk
SUMMARY:Gaz Brookfield
DESCRIPTION:Gaz Brookfield \nWest country-based Gaz Brookfield solo acoustic musician is coming to our intimate sister venue The Tree House this May with fellow solo singer-songwriters B-Sydes & Jake Martin. \nSince winning Acoustic Magazine’s Singer/songwriter of the year in 2010 he has spent the last decade on the road\, building a strong and loyal following all over the UK\, and beyond. \nHe was the first independent musician to sell out Bristol’s The Fleece (450 cap) and The Bierkeller (750 cap) – and\, more recently\, SWX (1000 cap). \nWith eight studio albums (the latest\, Idiomatic\, hitting #10 in the download charts) and seven live ones already under his belt\, this fiercely independent musician continues to tour up and down the country. No manager\, no record label\, no agent – just a guitar\, a van\, and a steadfastly belligerent refusal to give in. \nB-Sydes – Modern folk that’s as powerful as it is personal\nModern and authentic folk delivered with power\, personality and purpose. B-SYDES (aka rising singer-songwriter Ben Sydes) has been capturing the hearts and minds of audiences since his first EPs and critically-acclaimed albums. Having shared the stage with the likes of Frank Turner\, Gaz Brookfield\, Ferocious Dog\, Sam Duckworth\, Beans on Toast and countless more\, he’s honed his craft\, found his true voice\, and has set himself up to chase the many ambitions within his music.\n\nJake Martin\nFor the last 10 years\, Jake Martin has toured almost non stop propelling his music to audiences both at home and abroad with extensive tours in the UK\, Australia\, America and across mainland Europe. Jake’s undeniable stage presence\, energy and sing-along anthems have earned him a strong and loyal fanbase and shows with some of the biggest names in his field. Jake has toured and shared stages with names such as Gaz Brookfield\, Ferocious Dog\, Frank Turner\, The Levellers\, New Model Army\, Will Varley and many more.\nPlease note this is an 18+ event\, and the venue is accessed by stairs with no lift. If you have any enquiries please email thetreehouse@cheeseandgrain.com \n
URL:https://archive.discoverfrome.co.uk/event/gaz-brookfield-2/
LOCATION:The Tree House\, 35 Berkley Road\, Frome\, Somerset\, BA11 2EH\, United Kingdom
CATEGORIES:Concert,Discover Frome,Live Band,Music,Nightlife
ATTACH;FMTTYPE=image/png:https://archive.discoverfrome.co.uk/wp-content/uploads/2025/04/GBROOK-1024x544-1.png
END:VEVENT
END:VCALENDAR