BEGIN:VCALENDAR
VERSION:2.0
PRODID:-//Discover Frome - ECPv4.6.26//NONSGML v1.0//EN
CALSCALE:GREGORIAN
METHOD:PUBLISH
X-WR-CALNAME:Discover Frome
X-ORIGINAL-URL:https://archive.discoverfrome.co.uk
X-WR-CALDESC:Events for Discover Frome
BEGIN:VEVENT
DTSTART;TZID=Europe/London:20250711T190000
DTEND;TZID=Europe/London:20250711T210000
DTSTAMP:20260421T023342
CREATED:20250528T124422Z
LAST-MODIFIED:20250528T124422Z
UID:80677-1752260400-1752267600@archive.discoverfrome.co.uk
SUMMARY:Geoff Robb - The Music Of Trees
DESCRIPTION:Join Geoff Robb\, winner of the Brighton Fringe Live Music Award\, for an evening of magical storytelling and virtuoso guitar that promises to transport you out into the woods. Inspired by the wonder of the natural world\, ‘The Music of Trees’ weaves together storytelling\, woodland folklore and mythology with a suite of original and new compositions. \n
URL:https://archive.discoverfrome.co.uk/event/geoff-robb-the-music-of-trees/
LOCATION:Merlin ECOS Amphitheatre\, Bath Road\, Frome\, Somerset\, BA11 2HG
GEO:51.2412644;-2.3118242
X-APPLE-STRUCTURED-LOCATION;VALUE=URI;X-ADDRESS=Merlin ECOS Amphitheatre Bath Road Frome Somerset BA11 2HG;X-APPLE-RADIUS=500;X-TITLE=Bath Road\, Frome\, Somerset:geo:-2.3118242,51.2412644
CATEGORIES:Concert,Discover Frome,Frome Festival,Live Band,Music
ATTACH;FMTTYPE=image/jpeg:https://archive.discoverfrome.co.uk/wp-content/uploads/2025/05/geoff-robb.jpg
ORGANIZER;CN="Frome%20Festival":MAILTO:office@fromefestival.co.uk
END:VEVENT
END:VCALENDAR