BEGIN:VCALENDAR
VERSION:2.0
PRODID:-//Discover Frome - ECPv4.6.26//NONSGML v1.0//EN
CALSCALE:GREGORIAN
METHOD:PUBLISH
X-WR-CALNAME:Discover Frome
X-ORIGINAL-URL:https://archive.discoverfrome.co.uk
X-WR-CALDESC:Events for Discover Frome
BEGIN:VEVENT
DTSTART;TZID=Europe/London:20251129T150000
DTEND;TZID=Europe/London:20251129T163000
DTSTAMP:20260420T224522
CREATED:20250605T103531Z
LAST-MODIFIED:20250605T103532Z
UID:80889-1764428400-1764433800@archive.discoverfrome.co.uk
SUMMARY:Givino Christmas Wine / Gin / Rum / Whiskey Tasting
DESCRIPTION:Join us for an afternoon of tasting wine\, sparkling and gins.  We will have over 110 different bottles to choose from.  And the best bit…. if you spend over £50 you get your £10 ticket fee refunded 🙂 What better way to choose wines\, sparkles and gins for your Christmas day\, or for Christmas presents!  This event is held over two sessions\, 3pm – 4:30pm or 5pm – 6:30pm \n
URL:https://archive.discoverfrome.co.uk/event/givino-christmas-wine-gin-rum-whiskey-tasting-2/2025-11-29/
LOCATION:Givino\, R18 Marshall Way\, Frome\, BA11 2FE\, United Kingdom
CATEGORIES:Tastings,Wine
ATTACH;FMTTYPE=image/webp:https://archive.discoverfrome.co.uk/wp-content/uploads/2025/06/snug1.webp
ORGANIZER;CN="Givino":MAILTO:hello@givino.co.uk
END:VEVENT
END:VCALENDAR