BEGIN:VCALENDAR
VERSION:2.0
PRODID:-//Discover Frome - ECPv4.6.26//NONSGML v1.0//EN
CALSCALE:GREGORIAN
METHOD:PUBLISH
X-WR-CALNAME:Discover Frome
X-ORIGINAL-URL:https://archive.discoverfrome.co.uk
X-WR-CALDESC:Events for Discover Frome
BEGIN:VEVENT
DTSTART;TZID=Europe/London:20240402T123000
DTEND;TZID=Europe/London:20240402T133000
DTSTAMP:20260419T180210
CREATED:20240326T155520Z
LAST-MODIFIED:20240326T155520Z
UID:68351-1712061000-1712064600@archive.discoverfrome.co.uk
SUMMARY:Glass Making Workshop
DESCRIPTION:Spend an hour or so immersing yourself in the world of Fused Glass. Learn about frit\, stringers\, murrini and either be super creative or copy a piece. \nOptions are Suncatchers and tea-light holders. For a small supplement ❤️ heart hangers are also available. Weds 10 April at 2.30pm is geared towards younger children. \nWork is fired at 765 degrees after the Workshop and transformed into beautiful pieces of art. Pieces will be fired ready to collect within a week. \nClass is approx 1 hour and at Palette and Pasture\, Trudoxhill\, BA11 5DL. Award winning ice-creams and drinks are on Sale🍦 \nParticipants under the age of 16 MUST be accompanied by an adult throughout who will be wholly responsible for the child. Suitable for adults\, but accompanying adults do not have to book a place/participate in the session. \nBookings are NON REFUNDABLE. Safety requirements must be adhered to. This class involves working with glass which can be sharp\, so care and attention will be required at all times. \n
URL:https://archive.discoverfrome.co.uk/event/glass-making-workshop/
LOCATION:Palette and Pasture\, Pyle Farm\, Trudoxhill\, Somerset\, BA11 5DL\, United Kingdom
CATEGORIES:Children,crafts,Discover Frome,Family,Half Term & Holidays,Workshop
ATTACH;FMTTYPE=image/jpeg:https://archive.discoverfrome.co.uk/wp-content/uploads/2024/03/glass-workshop.jpeg
ORGANIZER;CN="Champagne%20Glass%20Studio":MAILTO:champagneglassstudio@gmail.com
END:VEVENT
END:VCALENDAR