BEGIN:VCALENDAR
VERSION:2.0
PRODID:-//Discover Frome - ECPv4.6.26//NONSGML v1.0//EN
CALSCALE:GREGORIAN
METHOD:PUBLISH
X-WR-CALNAME:Discover Frome
X-ORIGINAL-URL:https://archive.discoverfrome.co.uk
X-WR-CALDESC:Events for Discover Frome
BEGIN:VEVENT
DTSTART;TZID=Europe/London:20231028T190000
DTEND;TZID=Europe/London:20231028T233000
DTSTAMP:20260420T080524
CREATED:20230817T130625Z
LAST-MODIFIED:20230817T130625Z
UID:62267-1698519600-1698535800@archive.discoverfrome.co.uk
SUMMARY:Glenn Hughes
DESCRIPTION:Glenn Hughes performs classic Deep Purple Live \nCelebrating the 50th anniversary of the album Burn \nspecial guests The Damn Truth \nGlenn Hughes\, the former bassist\, and singer of Deep Purple\, known to millions as the ‘Voice of Rock’\, Rock and Roll Hall of Fame inductee\, is pleased to announce\, ‘Glenn Hughes Performs Classic Deep Purple Live – Celebrating the 50th Anniversary of the album BURN’.  Glenn will perform tracks from Deep Purple’s legendary rock album “BURN” and along with Deep Purple MKIII and MKIV songs. \nGlenn’s band will feature Soren Andersen (guitar)\, Ash Sheehan (drums) and Bob Fridzema (keyboards). \nSpecial guest on all UK shows is Canadian rock and roll band\, The Damn Truth \n
URL:https://archive.discoverfrome.co.uk/event/glenn-hughes/
LOCATION:Cheese and Grain\, Market Yard\, Frome\, BA11 1BE
GEO:51.2318708;-2.3202807
X-APPLE-STRUCTURED-LOCATION;VALUE=URI;X-ADDRESS=Cheese and Grain Market Yard Frome BA11 1BE;X-APPLE-RADIUS=500;X-TITLE=Market Yard:geo:-2.3202807,51.2318708
CATEGORIES:Discover Frome,Live Band,Music
ATTACH;FMTTYPE=image/jpeg:https://archive.discoverfrome.co.uk/wp-content/uploads/2023/08/CG1800X920-1024x523-1.jpg
END:VEVENT
END:VCALENDAR