BEGIN:VCALENDAR
VERSION:2.0
PRODID:-//Discover Frome - ECPv4.6.26//NONSGML v1.0//EN
CALSCALE:GREGORIAN
METHOD:PUBLISH
X-WR-CALNAME:Discover Frome
X-ORIGINAL-URL:https://archive.discoverfrome.co.uk
X-WR-CALDESC:Events for Discover Frome
BEGIN:VEVENT
DTSTART;TZID=Europe/London:20231123T190000
DTEND;TZID=Europe/London:20231123T210000
DTSTAMP:20260419T193725
CREATED:20231023T092404Z
LAST-MODIFIED:20231023T092404Z
UID:63224-1700766000-1700773200@archive.discoverfrome.co.uk
SUMMARY:Going Indie: The Art of Self-Publishing
DESCRIPTION:A talk by David J. Gatward\, celebrated author and expert in the field. Learn how to self-publish online and in book form and reach the widest possible audience. David was first published via the traditional route but decided to ‘go indie’ and has never looked back. He has written in many genres and is the author of the popular DCI Harry Grimm crime series. \n
URL:https://archive.discoverfrome.co.uk/event/going-indie-the-art-of-self-publishing/
LOCATION:Archangel\, 1 King Street\, Frome\, BA11 1BH
GEO:51.2311843;-2.3209068
X-APPLE-STRUCTURED-LOCATION;VALUE=URI;X-ADDRESS=Archangel 1 King Street Frome BA11 1BH;X-APPLE-RADIUS=500;X-TITLE=1 King Street:geo:-2.3209068,51.2311843
CATEGORIES:Discover Frome,Talk
ATTACH;FMTTYPE=image/jpeg:https://archive.discoverfrome.co.uk/wp-content/uploads/2023/10/Going-Indie-David-J-Gatward.jpg
ORGANIZER;CN="The%20Write%20Place":MAILTO:info@writeplace.org.uk
END:VEVENT
END:VCALENDAR