BEGIN:VCALENDAR
VERSION:2.0
PRODID:-//Discover Frome - ECPv4.6.26//NONSGML v1.0//EN
CALSCALE:GREGORIAN
METHOD:PUBLISH
X-WR-CALNAME:Discover Frome
X-ORIGINAL-URL:https://archive.discoverfrome.co.uk
X-WR-CALDESC:Events for Discover Frome
BEGIN:VEVENT
DTSTART;TZID=Europe/London:20240414T140000
DTEND;TZID=Europe/London:20240414T170000
DTSTAMP:20260421T141316
CREATED:20240327T102157Z
LAST-MODIFIED:20240327T102157Z
UID:68371-1713103200-1713114000@archive.discoverfrome.co.uk
SUMMARY:Grief Tending
DESCRIPTION:Grief Tending is a space to come together in a group to feel and release our grief. \nA simple way to explain why we might want to tend to our grief is that we often feel better after a good cry. We all carry pain\, sadness\, anger and loneliness within us. When we experience the full range of our feelings\, we become more whole and feel more alive. This can then ripple out to positively impact the people and the world around us. Processing and letting our grief out may unlock our ability to feel more positive emotions. Unexpressed or suppressed grief can cause problems for ourselves\, our relationships\, society and the natural world. \nWe may not always be able to feel our grief\, we may not always cry\, yet that is the intention we bring to grief tending. We are showing up to feel our pain and create space for feelings that we might not have time for in everyday life or that we might usually avoid. The focus is on feeling emotions\, rather than narratives in the mind or fixing things. There may be very strong expressions of emotion in this space\, or not. \nJoining Information \nOn registering for this event\, you will be required to fill in a Google form; this helps you prepare for grief tending and helps the facilitator to support your journey. \nThere is no late entry\, so please aim to arrive 15 minutes before the session starts. \nNo refunds are available for this event. If you pass your ticket on\, please let me know\, and please tell the person you pass your ticket on to that they must complete the Google Form. \nMycelium Space is up a flight of 16 stairs and a further flight of 3 stairs; there is a handrail but no wheelchair access currently. If price is a barrier to attending this event\, please get in touch with me directly. \n
URL:https://archive.discoverfrome.co.uk/event/grief-tending/
LOCATION:Mycelium Space\, Station Approach\, Frome\, Somerset\, BA11 1RE\, United Kingdom
CATEGORIES:Coaching,Community,Discover Frome,Health & Wellbeing,Support,Workshop
ATTACH;FMTTYPE=image/png:https://archive.discoverfrome.co.uk/wp-content/uploads/2024/03/grief-tending.png
ORGANIZER;CN="Sarah%20Vero":MAILTO:sarah@sarahvero.net
END:VEVENT
END:VCALENDAR