BEGIN:VCALENDAR
VERSION:2.0
PRODID:-//Discover Frome - ECPv4.6.26//NONSGML v1.0//EN
CALSCALE:GREGORIAN
METHOD:PUBLISH
X-WR-CALNAME:Discover Frome
X-ORIGINAL-URL:https://archive.discoverfrome.co.uk
X-WR-CALDESC:Events for Discover Frome
BEGIN:VEVENT
DTSTART;TZID=Europe/London:20241027T143000
DTEND;TZID=Europe/London:20241027T170000
DTSTAMP:20260421T105600
CREATED:20240919T095004Z
LAST-MODIFIED:20240919T095004Z
UID:72186-1730039400-1730048400@archive.discoverfrome.co.uk
SUMMARY:Halloween Party at the Assembly Rooms
DESCRIPTION:\nCome and join the SPOOKY FUN at our Children’s Halloween Party on Sunday 27th October 2024\, 2.30pm – 5.00pm at the Assembly Rooms (rear of Frome Memorial Theatre).\n\n\nThere will be party dancing with PDJ Disco. Lunch box & drink for the children and a sweet cone to take home. All included in the price of their ticket. Please advise of any dietary requirements.\n\n\nChildren’s tickets are £8.50. Adults free. Raffle. ALL CHILDREN MUST BE ACCOMPANIED BY A RESPONSIBLE ADULT. The bar will be open for hot and cold refreshments.\n\n\nAvailable from the box office Monday-Saturday 10-1\, 01373 462795 or from www.fromememorialtheatre.org.uk.\n\n
URL:https://archive.discoverfrome.co.uk/event/halloween-party-at-the-assembly-rooms/
LOCATION:Assembly Rooms\, Christchurch Street West\, Frome\, BA11 1EB
GEO:51.2291809;-2.3240101
X-APPLE-STRUCTURED-LOCATION;VALUE=URI;X-ADDRESS=Assembly Rooms Christchurch Street West Frome BA11 1EB;X-APPLE-RADIUS=500;X-TITLE=Christchurch Street West:geo:-2.3240101,51.2291809
CATEGORIES:Children,Dance,Discover Frome,DJ Set,Family,Half Term & Holidays,Halloween,Music
ATTACH;FMTTYPE=image/jpeg:https://archive.discoverfrome.co.uk/wp-content/uploads/2024/09/halloween-at-assembly-rooms.jpg
END:VEVENT
END:VCALENDAR