BEGIN:VCALENDAR
VERSION:2.0
PRODID:-//Discover Frome - ECPv4.6.26//NONSGML v1.0//EN
CALSCALE:GREGORIAN
METHOD:PUBLISH
X-WR-CALNAME:Discover Frome
X-ORIGINAL-URL:https://archive.discoverfrome.co.uk
X-WR-CALDESC:Events for Discover Frome
BEGIN:VEVENT
DTSTART;TZID=Europe/London:20241031T130000
DTEND;TZID=Europe/London:20241031T160000
DTSTAMP:20260422T082336
CREATED:20241008T114057Z
LAST-MODIFIED:20241008T114057Z
UID:72487-1730379600-1730390400@archive.discoverfrome.co.uk
SUMMARY:Halloween Party @ Victoria Park Community Café
DESCRIPTION:Victoria Park Community Café are holding a spooktacular Halloween party! Games\, music\, crafts\, food\, fancy dress and prizes to be won. \n\nThursday 31st October\, 1pm – 4pm\nEntry: £5\n\n
URL:https://archive.discoverfrome.co.uk/event/halloween-party-victoria-park-community-cafe/
LOCATION:Cafe in Victoria Park\, Victoria Park\, Frome\, BA11 1HJ\, United Kingdom
CATEGORIES:Children,Community,crafts,Discover Frome,Family,Food & Drink,Half Term & Holidays,Halloween,Music
ATTACH;FMTTYPE=image/jpeg:https://archive.discoverfrome.co.uk/wp-content/uploads/2024/10/vic-park-halloween.jpg
END:VEVENT
END:VCALENDAR