BEGIN:VCALENDAR
VERSION:2.0
PRODID:-//Discover Frome - ECPv4.6.26//NONSGML v1.0//EN
CALSCALE:GREGORIAN
METHOD:PUBLISH
X-WR-CALNAME:Discover Frome
X-ORIGINAL-URL:https://archive.discoverfrome.co.uk
X-WR-CALDESC:Events for Discover Frome
BEGIN:VEVENT
DTSTART;TZID=Europe/London:20230720T190000
DTEND;TZID=Europe/London:20230720T230000
DTSTAMP:20260419T145333
CREATED:20230714T100744Z
LAST-MODIFIED:20230714T100744Z
UID:61736-1689879600-1689894000@archive.discoverfrome.co.uk
SUMMARY:Hattie Whitehead & DG Solaris
DESCRIPTION:Night River Presents: Hattie Whitehead & DG Solaris \nHattie Whitehead is an incredible songwriter with a disarmingly beautiful voice. Hattie was born into a family that held music\, poetry\, creativity and expression at its core. The daughter of a jazz musician and a poet\, her family’s diverse favourite artists\, from Paul Simon to Miles Davis provided a solid musical grounding that significantly shaped her melodic and heartfelt style. Her jazz inflections have drawn comparisons to some of the musical greats she grew up listening to – Joni Mitchell\, Nick Drake\, John Martyn and Jeff Buckley. Her love of modern alternative\, folk and indie bands has further developed a style comparable to current artists such as Bon Iver\, Laura Marling\, Jose Gonzalez and The Staves. What they all have in common are melody\, emotion\, soulfulness and honesty. \nFollowing the release of her debut EP ‘Home’ in 2015\, Hattie had radio play on BBC London and Amazing Radio before winning third prize in Glastonbury’s Emerging Talent Competition. She has since performed at a raft of festivals such as Latitude\, Wilderness\, Field Day and Cambridge Folk Festival\, and gained the support of national press\, including the iNewspaper\, the Telegraph and Radio 2’s Whispering Bob Harris. \n“Whitehead’s rich\, honeyed vocals and talent for writing enthralling melodies and soul-baringly honest lyrics.” The Telegraph \n“Deeply melodic\, building soulful\, lilting vocals\, subtle harmonies\, swelling guitars and warm atmospherics.” The I Newspaper \n“Hattie’s got the sort of talent that means in a couple of years time we’ll all be boasting about being here tonight” For Folks Sake \nDG Solaris is a prolific and celebrated songwriter based in Frome. He has released five critically acclaimed albums as both Laish and DG Solaris and performed hundreds of shows across the globe. Danny is also the founder of Night River\, a live music promotions company based in Frome focussed on providing the most memorable and intimate live music shows and collaborations. \n‘Wondrous folk pop ballads’ Rolling Stone\n‘Beguiling songs of Love’ MOJO\n‘This is a great pop record’ Steve Lamacq\, BBC 6Music\n‘Beautiful and hypnotic’ Tom Robinson\, BBC 6Music\n‘Green’s infectiously charismatic delivery make it a wholly uplifting experience.’ The Line Of Best Fit \nDon’t miss this chance to see her in the beautiful HydeAway\, Frome. Only 30 tickets available. These shows usually sell out\, so early booking is advised. \n
URL:https://archive.discoverfrome.co.uk/event/hattie-whitehead-dg-solaris/
LOCATION:Hydeaway\, Search for the Eagle\, Frome\, BA11 1DR\, United Kingdom
CATEGORIES:Concert,Discover Frome,Music
ATTACH;FMTTYPE=image/jpeg:https://archive.discoverfrome.co.uk/wp-content/uploads/2023/07/Hattie-and-DG-landscape.jpg
ORGANIZER;CN="Night%20River":MAILTO:nightriverpresents@gmail.com
END:VEVENT
END:VCALENDAR