BEGIN:VCALENDAR
VERSION:2.0
PRODID:-//Discover Frome - ECPv4.6.26//NONSGML v1.0//EN
CALSCALE:GREGORIAN
METHOD:PUBLISH
X-WR-CALNAME:Discover Frome
X-ORIGINAL-URL:https://archive.discoverfrome.co.uk
X-WR-CALDESC:Events for Discover Frome
BEGIN:VEVENT
DTSTART;TZID=Europe/London:20240712T103000
DTEND;TZID=Europe/London:20240712T163000
DTSTAMP:20260419T121350
CREATED:20240620T094522Z
LAST-MODIFIED:20240620T094522Z
UID:70591-1720780200-1720801800@archive.discoverfrome.co.uk
SUMMARY:Hidden Gardens of Frome
DESCRIPTION:A highlight of the Festival programme\, Frome residents open their doors wide and invite you to explore the Hidden Gardens of Frome. Explore the byways of Frome\, enjoy gardens lovingly prepared by volunteers\, treat yourself to a piece of cake and a cup of tea\, or just wander around and have a chat. Join hundreds of visitors discovering beautiful places across the town and talk with knowledgeable gardeners and wildlife enthusiasts. \nWhen you purchase your ticket either in person or online\, you will receive a programme with map which will act as your ticket for the gardens. Please be aware that some gardens are only open 1 or 2 days across the weekend\, as gardeners do love to get out and see other peoples efforts as well. \nPoint of sale for physical programmes: Cheese and Grain\, Hunting Raven\, Ellenbray\, Victoria Park Café\, Discover Frome in the Library and the Town Hall. \nAll funds raised supports Frome Festival. \n
URL:https://archive.discoverfrome.co.uk/event/hidden-gardens-of-frome-2/
CATEGORIES:Discover Frome,Frome Festival
ATTACH;FMTTYPE=image/jpeg:https://archive.discoverfrome.co.uk/wp-content/uploads/2024/06/Activity-Hidden-Gardens-scaled-e1715783514226.jpg
END:VEVENT
END:VCALENDAR