BEGIN:VCALENDAR
VERSION:2.0
PRODID:-//Discover Frome - ECPv4.6.26//NONSGML v1.0//EN
CALSCALE:GREGORIAN
METHOD:PUBLISH
X-WR-CALNAME:Discover Frome
X-ORIGINAL-URL:https://archive.discoverfrome.co.uk
X-WR-CALDESC:Events for Discover Frome
BEGIN:VEVENT
DTSTART;TZID=Europe/London:20240729T100000
DTEND;TZID=Europe/London:20240729T160000
DTSTAMP:20260419T130230
CREATED:20240627T130314Z
LAST-MODIFIED:20240627T130314Z
UID:70780-1722247200-1722268800@archive.discoverfrome.co.uk
SUMMARY:Hidden Woods Holiday Clubs
DESCRIPTION:– Award-winning forest school holiday clubs for 8-13 year olds\, based in a magical purpose-built woodland camp \n– 10am to 4pm\, early drop off (from 8.30am) and late pick up (until 5.30pm) available \n– £35 per day. £30 each if booking for 4 or more children – come with friends! \n– No minimum commitment\, book for single days or blocks \n– Pre-booking essential (here) \n– Sessions run Monday to Thursday from 29th July to 29th August (excl. bank holiday Mon 26th Aug) \n
URL:https://archive.discoverfrome.co.uk/event/hidden-woods-holiday-clubs-4/
LOCATION:Hidden Woods\, Farleigh Wood\, Farleigh Hungerford\, BA2 7NH\, United Kingdom
CATEGORIES:Children,Discover Frome
ATTACH;FMTTYPE=image/jpeg:https://archive.discoverfrome.co.uk/wp-content/uploads/2020/03/Hidden-Woods-Holiday-clubs.jpg
ORGANIZER;CN="Hidden%20Woods":MAILTO:hello@hiddenwoods.co.uk
END:VEVENT
END:VCALENDAR