BEGIN:VCALENDAR
VERSION:2.0
PRODID:-//Discover Frome - ECPv4.6.26//NONSGML v1.0//EN
CALSCALE:GREGORIAN
METHOD:PUBLISH
X-WR-CALNAME:Discover Frome
X-ORIGINAL-URL:https://archive.discoverfrome.co.uk
X-WR-CALDESC:Events for Discover Frome
BEGIN:VEVENT
DTSTART;TZID=Europe/London:20230617T140000
DTEND;TZID=Europe/London:20230617T170000
DTSTAMP:20260419T135605
CREATED:20230502T135247Z
LAST-MODIFIED:20230502T135247Z
UID:59829-1687010400-1687021200@archive.discoverfrome.co.uk
SUMMARY:How do we Tackle the Climate Emergency
DESCRIPTION:A series of talks from different speakers setting out ways in which we can tackle the Climate Emergency. \nFrom individual action to community initiatives. \nFor further details\, including the individual talks and speakers visit their Eventbrite page. \nPart of Great Big Green Week 2023. \n
URL:https://archive.discoverfrome.co.uk/event/how-do-we-tackle-the-climate-emergency/
LOCATION:Rode Village Hall\, High Street\, Rode\, Frome\, BA11 6PB\, United Kingdom
CATEGORIES:Discover Frome,Great Big Green Week,Sustainability,Talk
ATTACH;FMTTYPE=image/jpeg:https://archive.discoverfrome.co.uk/wp-content/uploads/2019/03/Climate.jpg
END:VEVENT
END:VCALENDAR