BEGIN:VCALENDAR
VERSION:2.0
PRODID:-//Discover Frome - ECPv4.6.26//NONSGML v1.0//EN
CALSCALE:GREGORIAN
METHOD:PUBLISH
X-WR-CALNAME:Discover Frome
X-ORIGINAL-URL:https://archive.discoverfrome.co.uk
X-WR-CALDESC:Events for Discover Frome
BEGIN:VEVENT
DTSTART;TZID=Europe/London:20250222T110000
DTEND;TZID=Europe/London:20250222T130000
DTSTAMP:20260419T135857
CREATED:20250203T114113Z
LAST-MODIFIED:20250218T144340Z
UID:74492-1740222000-1740229200@archive.discoverfrome.co.uk
SUMMARY:How To Mend Your Clothes with Everyone Needs Pockets in Frome
DESCRIPTION:Come and learn how to mend your clothes in this hands on session with volunteers from Everyone Needs Pockets Network at the Cheese & Grain \nBooking only available through Eventbrite – click here \n\n\nHoles in your clothes? Button fallen off? Tear in a favourite shirt? Things lying about waiting for that mend? Here’s your opportunity to fix them in this hands on session. \nTalented volunteer stitchers and menders from the Everyone Needs Pockets Textile Reuse Network can help work out what needs doing and how to fix it\, supporting you to mend your own clothes. \nCome and enjoy a relaxed social atmosphere of mending your clothes\, with free drinks and biscuits to help! These sessions are designed for all abilities and many different kind of repairs. Please answer the questions as you book in\, so we know how best to help you! \nWhat we can help with: \n\nButtons and fasteners\nTaking up hems and some fitting adjustments\nMending and darning holes\nAdvice on how you might repair a piece of clothing\, including zips.\n\n\n\n\n\nYour hosts: \nEveryone Needs Pockets is a growing network of 150+ makers\, designers\, stitchers\, knitters\, supporters and researchers. The network works together to grow projects and enterprises that reuse textiles\, save carbon and landfill and increase our wellbeing: revamp\, repurpose\, reuse\, repair. \nFuture Shed Frome offers practical support to get green and healthy initiatives and enterprises off the ground through building networks\, connecting people and start-up coaching. Share ideas\, get support to bring them to life and make new connections so that we’re all better equipped for a greener\, healthier future. Future Shed is part of Edventure\, an organisation supporting community entrepreneurship in Frome. \nThis activity is part of Green & Healthy Frome a partnership programme with Edventure Frome\, Frome Medical Practice and Frome Town Council taking action on health and climate. It is funded by The National Lottery Community Fund’s Climate Action Fund. \n\n\n
URL:https://archive.discoverfrome.co.uk/event/how-to-mend-your-clothes-with-everyone-needs-pockets-in-frome-2/2025-02-22/
LOCATION:Cheese and Grain\, Market Yard\, Frome\, BA11 1BE
GEO:51.2318708;-2.3202807
X-APPLE-STRUCTURED-LOCATION;VALUE=URI;X-ADDRESS=Cheese and Grain Market Yard Frome BA11 1BE;X-APPLE-RADIUS=500;X-TITLE=Market Yard:geo:-2.3202807,51.2318708
ATTACH;FMTTYPE=image/jpeg:https://archive.discoverfrome.co.uk/wp-content/uploads/2025/02/https___cdn.evbuc_.com_images_853321719_612590212223_1_original.jpeg
ORGANIZER;CN="Future%20Shed%20Frome":MAILTO:greenhealth@edventurefrome.org
END:VEVENT
END:VCALENDAR