BEGIN:VCALENDAR
VERSION:2.0
PRODID:-//Discover Frome - ECPv4.6.26//NONSGML v1.0//EN
CALSCALE:GREGORIAN
METHOD:PUBLISH
X-WR-CALNAME:Discover Frome
X-ORIGINAL-URL:https://archive.discoverfrome.co.uk
X-WR-CALDESC:Events for Discover Frome
BEGIN:VEVENT
DTSTART;TZID=Europe/London:20260307T193000
DTEND;TZID=Europe/London:20260307T193000
DTSTAMP:20260420T163858
CREATED:20250602T175302Z
LAST-MODIFIED:20250602T175302Z
UID:80838-1772911800-1772911800@archive.discoverfrome.co.uk
SUMMARY:Huey Morgan - The Fun Lovin' Criminal
DESCRIPTION:Huey Morgan will be back on the road with his popular Q&A tour next spring. \nThe musician\, TV broadcaster\, author and DJ\, is adding 39 more dates to his Huey Morgan: The Fun Lovin’ Criminal spoken word tour after a successful run in autumn 2024. \nIt kicks off at The Hub\, St Mary’s\, Lichfield on March 4\, taking in intimate venues across England and Wales\, concluding at Waterside Arts Centre in Sale on April 26. \nYou may have encountered the dynamic personality of Huey Morgan in many ways. Frontman\, radio and television broadcaster\, author and DJ\, Huey is many things at once. Coming to prominence as the frontman and driving force of the eclectic American Rap/Rock outfit Fun Lovin’ Criminals\, Morgan led the band from 1993 – 2021. Best known for the hit record Scooby Snacks\, Fun Lovin’ Criminals released six albums between 1996 and 2010 and sold over 10 million records. \nAs host of The Huey Show on BBC Radio 6 since 2008\, Morgan is a cherished voice on national radio in the UK\, where he hosts a mix of Hip Hop\, Soul\, Punk\, Funk\, Rock and everything in between to his listeners. \nA charismatic\, authentic\, passionate\, and popular renegade himself\, Huey’s groove is infectious. And now he’s heading out again on a solo tour – mixing music and chat – so fans can get up close and personal with Huey Morgan – The Fun Lovin’ Criminal. \nHuey said: “I had such an awesome time with this tour last autumn that when the chance to go back out again came up\, I couldn’t resist. So come along y’all\, and enjoy a night of music and chat.” \n
URL:https://archive.discoverfrome.co.uk/event/huey-morgan-the-fun-lovin-criminal/
LOCATION:Frome Memorial Theatre\, Christchurch Street West\, Frome\, BA11 1EB
GEO:51.2291809;-2.3240101
X-APPLE-STRUCTURED-LOCATION;VALUE=URI;X-ADDRESS=Frome Memorial Theatre Christchurch Street West Frome BA11 1EB;X-APPLE-RADIUS=500;X-TITLE=Christchurch Street West:geo:-2.3240101,51.2291809
CATEGORIES:Discover Frome,Live Band,Music,Theatre
ATTACH;FMTTYPE=image/jpeg:https://archive.discoverfrome.co.uk/wp-content/uploads/2025/06/Huey-Morgan-Brochure-pic-1.jpg
END:VEVENT
END:VCALENDAR