BEGIN:VCALENDAR
VERSION:2.0
PRODID:-//Discover Frome - ECPv4.6.26//NONSGML v1.0//EN
CALSCALE:GREGORIAN
METHOD:PUBLISH
X-WR-CALNAME:Discover Frome
X-ORIGINAL-URL:https://archive.discoverfrome.co.uk
X-WR-CALDESC:Events for Discover Frome
BEGIN:VEVENT
DTSTART;TZID=Europe/London:20240127T190000
DTEND;TZID=Europe/London:20240127T233000
DTSTAMP:20260419T232325
CREATED:20231206T144209Z
LAST-MODIFIED:20231206T144209Z
UID:65873-1706382000-1706398200@archive.discoverfrome.co.uk
SUMMARY:Hugh Cornwell
DESCRIPTION:Golden Brown\, Strange Little Girl\, Always The Sun\, Peaches\, No More Heroes\, Nice & Sleazy…Sound familiar ? All big hits\, all great songs\, all written and sung by Hugh Cornwell\, the songwriter behind The Stranglers. \nAs leader of The Stranglers\, Hugh was the main songwriter of all the band’s most memorable songs across ten stellar albums. Their 1977 debut Rattus Norvegicus – featuring seminal songs Peaches\, (Get A) Grip\, (On Yourself)\, and more – follow up albums No More Heroes\, Black and White\, The Raven and The Gospel According To The MenInBlack – which Hugh cites as his favourite Stranglers album – consolidated Cornwell’s stature as a unique songwriter and musician. His lyrics to Golden Brown\, from the La Folie album\, and their multiple meanings\, is a songwriting masterclass with the song reaching number 2 in the UK singles charts. After releasing his final album 10 with the band Hugh embarked on a solo career. Fast forward to 2022 and Hugh’s lastest album Moments of Madness is an album of acute\, pithy\, and witty observations which has received widespread critical acclaim. \nMojo – “Cornwell’s still doing things his way and often with striking results” \n4/4 star review Uncut – “Thunderously tribal garage rock…the ex- Strangler not yet gone soft” \nVive Le Rock – “a hugely enjoyable journey through the thoughts and musings of one of the most mercurial minds working in modern music” \nLouder Than War – “A late flowering classic from a man that has always known how to write a good tune” \nwith special guests The Primitives \nThe Primitives are an English indie rock band from Coventry\, best known for their 1988 international hit single “Crash”. Formed in 1984\, disbanded in 1992 and reformed in 2009\, the band’s two constant members throughout their recording career have been vocalist Tracy Tracy and guitarist Paul Court. Drummer Tig Williams has been a constant member since 1987. Often described as an indie pop or indie rock band\, The Primitives’ musical style can also be seen as straddling power pop\, new wave and post-punk. \n
URL:https://archive.discoverfrome.co.uk/event/hugh-cornwell/
LOCATION:Cheese and Grain\, Market Yard\, Frome\, BA11 1BE
GEO:51.2318708;-2.3202807
X-APPLE-STRUCTURED-LOCATION;VALUE=URI;X-ADDRESS=Cheese and Grain Market Yard Frome BA11 1BE;X-APPLE-RADIUS=500;X-TITLE=Market Yard:geo:-2.3202807,51.2318708
CATEGORIES:Discover Frome,Live Band,Music
ATTACH;FMTTYPE=image/jpeg:https://archive.discoverfrome.co.uk/wp-content/uploads/2023/12/hc2024-120x62.8-1.jpg
END:VEVENT
END:VCALENDAR