BEGIN:VCALENDAR
VERSION:2.0
PRODID:-//Discover Frome - ECPv4.6.26//NONSGML v1.0//EN
CALSCALE:GREGORIAN
METHOD:PUBLISH
X-WR-CALNAME:Discover Frome
X-ORIGINAL-URL:https://archive.discoverfrome.co.uk
X-WR-CALDESC:Events for Discover Frome
BEGIN:VEVENT
DTSTART;TZID=Europe/London:20230715T193000
DTEND;TZID=Europe/London:20230715T223000
DTSTAMP:20260419T132232
CREATED:20230611T102124Z
LAST-MODIFIED:20230611T102124Z
UID:61365-1689449400-1689460200@archive.discoverfrome.co.uk
SUMMARY:IAIN BALLAMY’S FESTIVAL ALL STARS’ JAZZ CLUB
DESCRIPTION:Iain Ballamy presents the very best jazz has to offer at the Festival All Stars’ Jazz Club. With some of the biggest names in British jazz\, these sessions promise to be very special. \n
URL:https://archive.discoverfrome.co.uk/event/iain-ballamys-festival-all-stars-jazz-club/
LOCATION:Bar Lotte\, 6a Badcox\, Frome\, Somerset\, BA11 1DB\, United Kingdom
CATEGORIES:Discover Frome,Frome Festival,Music
ATTACH;FMTTYPE=image/jpeg:https://archive.discoverfrome.co.uk/wp-content/uploads/2023/06/Iain-B.jpg
ORGANIZER;CN="Frome%20Festival":MAILTO:office@fromefestival.co.uk
END:VEVENT
END:VCALENDAR