BEGIN:VCALENDAR
VERSION:2.0
PRODID:-//Discover Frome - ECPv4.6.26//NONSGML v1.0//EN
CALSCALE:GREGORIAN
METHOD:PUBLISH
X-WR-CALNAME:Discover Frome
X-ORIGINAL-URL:https://archive.discoverfrome.co.uk
X-WR-CALDESC:Events for Discover Frome
BEGIN:VEVENT
DTSTART;TZID=Europe/London:20230512T170000
DTEND;TZID=Europe/London:20230512T190000
DTSTAMP:20260420T032137
CREATED:20230504T112836Z
LAST-MODIFIED:20230511T093858Z
UID:59923-1683910800-1683918000@archive.discoverfrome.co.uk
SUMMARY:Imaginarium Workshop - CANCELLED
DESCRIPTION:280 years ago when Frome’s cloth trade was at its peak\, I am sure no one imagined it would ever change\, but within a few years it had declined dramatically. \nThe weavers pawned all their belongings and were hired to build the new Bath road. \nCome and join Jenny in imagining a new circular economy for Frome textiles. \nA ‘Woven In Time’ event within Frome Local History Festival (12-20 May 2023). \nNo previous experience required. \nAccess: 1st floor lift available. \nMaximum 12 participants. Adults 16+ \n
URL:https://archive.discoverfrome.co.uk/event/imaginarium-workshop/
LOCATION:Frome Library\, Justice Lane\, Frome\, BA11 1BE
GEO:51.2324194;-2.3206873
X-APPLE-STRUCTURED-LOCATION;VALUE=URI;X-ADDRESS=Frome Library Justice Lane Frome BA11 1BE;X-APPLE-RADIUS=500;X-TITLE=Justice Lane:geo:-2.3206873,51.2324194
CATEGORIES:Discover Frome,Frome Local History Festival,History & Heritage
ATTACH;FMTTYPE=image/jpeg:https://archive.discoverfrome.co.uk/wp-content/uploads/2023/05/weaving.jpg
END:VEVENT
END:VCALENDAR