BEGIN:VCALENDAR
VERSION:2.0
PRODID:-//Discover Frome - ECPv4.6.26//NONSGML v1.0//EN
CALSCALE:GREGORIAN
METHOD:PUBLISH
X-WR-CALNAME:Discover Frome
X-ORIGINAL-URL:https://archive.discoverfrome.co.uk
X-WR-CALDESC:Events for Discover Frome
BEGIN:VEVENT
DTSTART;TZID=Europe/London:20240306T193000
DTEND;TZID=Europe/London:20240306T213000
DTSTAMP:20260419T222813
CREATED:20240215T154016Z
LAST-MODIFIED:20240305T133846Z
UID:67693-1709753400-1709760600@archive.discoverfrome.co.uk
SUMMARY:International Women's Day Lightning Talks
DESCRIPTION:A free evening of fun and inspiration in the heart of Frome. Join us to celebrate the global theme of “Inspire Inclusion” with a series of 5-minute talks from local speakers. \nIf you would like to share your ideas on the night\, in a 5-minute Lightning Talk\, please sign up using the form below: \nhttps://forms.gle/uVJe2rLmJoPdT3Fz8 \n
URL:https://archive.discoverfrome.co.uk/event/international-womens-day-lightning-talks-2/
LOCATION:Cheese and Grain\, Market Yard\, Frome\, BA11 1BE
GEO:51.2318708;-2.3202807
X-APPLE-STRUCTURED-LOCATION;VALUE=URI;X-ADDRESS=Cheese and Grain Market Yard Frome BA11 1BE;X-APPLE-RADIUS=500;X-TITLE=Market Yard:geo:-2.3202807,51.2318708
CATEGORIES:Community,Discover Frome,Facilitation,Ladies Night,Networking,Support,Talk,Women
ATTACH;FMTTYPE=image/png:https://archive.discoverfrome.co.uk/wp-content/uploads/2024/02/IWD-lightning-talks.png
ORGANIZER;CN="Dawn%20Denton":MAILTO:dawn@dawnadenton.com
END:VEVENT
END:VCALENDAR