BEGIN:VCALENDAR
VERSION:2.0
PRODID:-//Discover Frome - ECPv4.6.26//NONSGML v1.0//EN
CALSCALE:GREGORIAN
METHOD:PUBLISH
X-WR-CALNAME:Discover Frome
X-ORIGINAL-URL:https://archive.discoverfrome.co.uk
X-WR-CALDESC:Events for Discover Frome
BEGIN:VEVENT
DTSTART;TZID=Europe/London:20240603T193000
DTEND;TZID=Europe/London:20240603T213000
DTSTAMP:20260419T135555
CREATED:20240521T112553Z
LAST-MODIFIED:20240521T112553Z
UID:69540-1717443000-1717450200@archive.discoverfrome.co.uk
SUMMARY:Introductory Meditation Course
DESCRIPTION:BREAK-OUT\nMeditation is not just going inward\, escaping\, it’s also Breaking out – Freeing – Expansive. \nKINDER\, CALMER\, STRONGER\nDevelop skills for living become:\nWarmer – less grumpy\nConfident -less worried\nClearer – less muddled\nFocussed – less scattered \n£60 for the eight week course \n
URL:https://archive.discoverfrome.co.uk/event/introductory-meditation-course/
LOCATION:St Marys Church\, Innox Hill\, Frome\, BA11 2LN
CATEGORIES:Health & Wellbeing
ATTACH;FMTTYPE=image/jpeg:https://archive.discoverfrome.co.uk/wp-content/uploads/2024/05/meditation-course-june-24-S.jpg
ORGANIZER;CN="Frome%20Triratna%20Buddist%20Community":MAILTO:frometriratna@gmail.com
END:VEVENT
END:VCALENDAR