BEGIN:VCALENDAR
VERSION:2.0
PRODID:-//Discover Frome - ECPv4.6.26//NONSGML v1.0//EN
CALSCALE:GREGORIAN
METHOD:PUBLISH
X-WR-CALNAME:Discover Frome
X-ORIGINAL-URL:https://archive.discoverfrome.co.uk
X-WR-CALDESC:Events for Discover Frome
BEGIN:VEVENT
DTSTART;TZID=Europe/London:20250713T143000
DTEND;TZID=Europe/London:20250713T160000
DTSTAMP:20260421T004942
CREATED:20250522T153155Z
LAST-MODIFIED:20250522T153155Z
UID:80312-1752417000-1752422400@archive.discoverfrome.co.uk
SUMMARY:Jackdaws Songbirds
DESCRIPTION:Jackdaws Songbirds are feeling good to be singing! They have tales to tell: songs of seas\, rivers\, fields and factories\, ditties from way across the globe to right here in Frome. What more could you want? Oh yes: heavenly homemade treats and teas. Retiring collection for Jackdaws Educational Trust. \n
URL:https://archive.discoverfrome.co.uk/event/jackdaws-songbirds/
LOCATION:Christ Church\, Christchurch Street West\, Frome\, BA11 1EH
GEO:51.2292735;-2.3282901
X-APPLE-STRUCTURED-LOCATION;VALUE=URI;X-ADDRESS=Christ Church Christchurch Street West Frome BA11 1EH;X-APPLE-RADIUS=500;X-TITLE=Christchurch Street West:geo:-2.3282901,51.2292735
CATEGORIES:Children,Concert,Discover Frome,Family,Frome Festival,Live Band,Music
ATTACH;FMTTYPE=image/jpeg:https://archive.discoverfrome.co.uk/wp-content/uploads/2025/05/DSCF8876-Enhanced-NR-Frome-Festival-Day-10-Event-1610-Jackdaws-Songbirds-Performers-copy-scaled-e1742915743482.jpg
ORGANIZER;CN="Frome%20Festival":MAILTO:office@fromefestival.co.uk
END:VEVENT
END:VCALENDAR