BEGIN:VCALENDAR
VERSION:2.0
PRODID:-//Discover Frome - ECPv4.6.26//NONSGML v1.0//EN
CALSCALE:GREGORIAN
METHOD:PUBLISH
X-WR-CALNAME:Discover Frome
X-ORIGINAL-URL:https://archive.discoverfrome.co.uk
X-WR-CALDESC:Events for Discover Frome
BEGIN:VEVENT
DTSTART;TZID=Europe/London:20241117T193000
DTEND;TZID=Europe/London:20241117T220000
DTSTAMP:20260421T095433
CREATED:20241108T120727Z
LAST-MODIFIED:20241108T120727Z
UID:72919-1731871800-1731880800@archive.discoverfrome.co.uk
SUMMARY:JAZZ: Caroline Radcliffe + Graham Dent Quartet
DESCRIPTION:JAZZ at the CORNERHOUSE\, Frome. Caroline Radcliffe (vocal) will be the guest with the Graham Dent trio on Sunday 17th November at 7.30pm. Caroline is well known in Frome as the leader and spark behind Jackdaws Songbirds choir. Her enthusiasm for anything involving singing is infectious and that includes her very own jazz performances\, which ooze style and fun. John Plaxton on trumpet will be augmenting the trio of Graham Dent (keys)\, Adrian Smith (bass) and James Porter (drums). Come and enjoy live music. \n
URL:https://archive.discoverfrome.co.uk/event/jazz-caroline-radcliffe-graham-dent-quartet-2/
LOCATION:The Cornerhouse\, 1 Christchurch Street East\, Frome
GEO:51.2286658;-2.3222575
X-APPLE-STRUCTURED-LOCATION;VALUE=URI;X-ADDRESS=The Cornerhouse 1 Christchurch Street East Frome;X-APPLE-RADIUS=500;X-TITLE=1 Christchurch Street East:geo:-2.3222575,51.2286658
CATEGORIES:Concert,Discover Frome,Live Band,Music
ATTACH;FMTTYPE=image/jpeg:https://archive.discoverfrome.co.uk/wp-content/uploads/2024/11/Graham-Dent-Caroline-Radcliffe-17-11-24-DF.jpg
ORGANIZER;CN="Graham%20Dent":MAILTO:grahamdent3@aol.com
END:VEVENT
END:VCALENDAR