BEGIN:VCALENDAR
VERSION:2.0
PRODID:-//Discover Frome - ECPv4.6.26//NONSGML v1.0//EN
CALSCALE:GREGORIAN
METHOD:PUBLISH
X-WR-CALNAME:Discover Frome
X-ORIGINAL-URL:https://archive.discoverfrome.co.uk
X-WR-CALDESC:Events for Discover Frome
BEGIN:VEVENT
DTSTART;TZID=Europe/London:20230923T193000
DTEND;TZID=Europe/London:20230923T193000
DTSTAMP:20260420T021046
CREATED:20230519T101200Z
LAST-MODIFIED:20230519T101200Z
UID:60562-1695497400-1695497400@archive.discoverfrome.co.uk
SUMMARY:Jo Burt and the Lazy Farquars
DESCRIPTION:Heritage artist Jo Burt is an English songwriter\, storyteller\, singer and guitar player possibly best known for his incredible history working with musical legends such as Freddie Mercury\, The Troggs and even Black Sabbath over the past 40 years. \nBurt spent much of his early career in the late 70s and throughout the 80s and 90s touring the globe with various music icons including Jimmy Page\, The Police\, Elton John\, Brian Setzer\, Bob Geldof – and of course Freddie Mercury\, Black Sabbath and ‘Godfathers of Punk’ The Troggs – and recording in some of the best studios the world had to offer. His is a unique and fascinating insight into the heady days of rock & roll\, now long gone. \nAfter a fantastic few decades touring\, writing and recording with some of the biggest names in the business\, Jo pulled back from a life on the road to take an active role in raising his two sons. For years he played small\, local venues in London and continued to write and record in his own studio. When the boys were old enough and finding their path in the world\, Jo felt able to re-devote his time to touring.\nThe last 15 years have seen Jo making a name in his own right. His band was originally created as a songwriting development tool\, and ultimately became an outstanding live act playing festivals and venues around the UK\, Europe and Canada\, including a slot at Glastonbury Festival in 2017. \nJo’s writing style is based on his background of guitar-orientated rock\, with a southern-style influence and a very English ‘Beatles-esque’ twist. To use his own terms – ‘Anglicana’ and ‘psycho-country’. The show also includes his own versions of some of the biggest hits from the artists that shaped his career. He is an hypnotic performer\, drawing in his listeners with tales from his recording and touring past\, and telling gripping and intriguing stories through his songs themselves. His warm and enthusiastic approach never fails to endear him to his audience and Jo and his band continue to electrify with the mixture of high energy\, honesty\, intensity and humour that they bring to each performance. \n
URL:https://archive.discoverfrome.co.uk/event/jo-burt-and-the-lazy-farquars/
LOCATION:Assembly Rooms\, Christchurch Street West\, Frome\, BA11 1EB
GEO:51.2291809;-2.3240101
X-APPLE-STRUCTURED-LOCATION;VALUE=URI;X-ADDRESS=Assembly Rooms Christchurch Street West Frome BA11 1EB;X-APPLE-RADIUS=500;X-TITLE=Christchurch Street West:geo:-2.3240101,51.2291809
CATEGORIES:Discover Frome,Music
ATTACH;FMTTYPE=image/jpeg:https://archive.discoverfrome.co.uk/wp-content/uploads/2023/05/Jo-Burt.jpg
END:VEVENT
END:VCALENDAR