BEGIN:VCALENDAR
VERSION:2.0
PRODID:-//Discover Frome - ECPv4.6.26//NONSGML v1.0//EN
CALSCALE:GREGORIAN
METHOD:PUBLISH
X-WR-CALNAME:Discover Frome
X-ORIGINAL-URL:https://archive.discoverfrome.co.uk
X-WR-CALDESC:Events for Discover Frome
BEGIN:VEVENT
DTSTART;TZID=Europe/London:20230922T200000
DTEND;TZID=Europe/London:20230922T233000
DTSTAMP:20260420T000223
CREATED:20230727T155130Z
LAST-MODIFIED:20230727T155130Z
UID:61964-1695412800-1695425400@archive.discoverfrome.co.uk
SUMMARY:Jo Whiley's 90s Anthems
DESCRIPTION:\nJo Whiley is quite simply the ultimate authority on British music – and the voice and face of a generation is headed your way with a dazzling new show as she rummages through her record bag to dig out the very best of 90s Anthems.\n\n\n\nNo-one knows the 90s like Jo – she was right there on the cutting-edge\, leading the charge as Britpop blew up\, dance music exploded and indie went wild.\n\n\n\nNow you can relive those magical memories on a dancefloor once again with the queen of the 90s… from Oasis to Blur\, The Chems to The Prodigy\, let Jo take you on a personal tour of her finest musical memories of the decade that defined them all.\n\n
URL:https://archive.discoverfrome.co.uk/event/jo-whileys-90s-anthems/
LOCATION:Cheese and Grain\, Market Yard\, Frome\, BA11 1BE
GEO:51.2318708;-2.3202807
X-APPLE-STRUCTURED-LOCATION;VALUE=URI;X-ADDRESS=Cheese and Grain Market Yard Frome BA11 1BE;X-APPLE-RADIUS=500;X-TITLE=Market Yard:geo:-2.3202807,51.2318708
CATEGORIES:Club Night,Discover Frome,DJ Set,Live Band,Music
ATTACH;FMTTYPE=image/jpeg:https://archive.discoverfrome.co.uk/wp-content/uploads/2023/07/332149762_861866021554800_2959717417747362064_n.jpg
END:VEVENT
END:VCALENDAR