BEGIN:VCALENDAR
VERSION:2.0
PRODID:-//Discover Frome - ECPv4.6.26//NONSGML v1.0//EN
CALSCALE:GREGORIAN
METHOD:PUBLISH
X-WR-CALNAME:Discover Frome
X-ORIGINAL-URL:https://archive.discoverfrome.co.uk
X-WR-CALDESC:Events for Discover Frome
BEGIN:VEVENT
DTSTART;TZID=Europe/London:20230515T190000
DTEND;TZID=Europe/London:20230515T203000
DTSTAMP:20260420T032526
CREATED:20230505T090355Z
LAST-MODIFIED:20230505T090355Z
UID:59999-1684177200-1684182600@archive.discoverfrome.co.uk
SUMMARY:John Ashe - The Greatest Clothier of his Time
DESCRIPTION:Michael Gorman tells the story of 17th century MP and businessman John Ashe\, regarded as ‘the greatest clothier of his time’ and credited with reviving the fortunes of the flagging cloth industry in north Somerset. \nA devout Puritan\, he was instrumental in rallying support for Parliament in the English Civil War\, so as well as cloth\, expect riots\, secret trials\, executions . . . and a rather famous statue. \nFree although donations welcome on the night (all proceeds to Frome Museum). \nPLEASE NOTE: Booking essential as places are limited.  \n
URL:https://archive.discoverfrome.co.uk/event/john-ashe-the-greatest-clothier-of-his-time/
LOCATION:United Kingdom
CATEGORIES:Discover Frome,Frome Local History Festival,History & Heritage,Talk
ATTACH;FMTTYPE=image/jpeg:https://archive.discoverfrome.co.uk/wp-content/uploads/2023/05/John-Ashe.jpg
END:VEVENT
END:VCALENDAR