BEGIN:VCALENDAR
VERSION:2.0
PRODID:-//Discover Frome - ECPv4.6.26//NONSGML v1.0//EN
CALSCALE:GREGORIAN
METHOD:PUBLISH
X-WR-CALNAME:Discover Frome
X-ORIGINAL-URL:https://archive.discoverfrome.co.uk
X-WR-CALDESC:Events for Discover Frome
BEGIN:VEVENT
DTSTART;TZID=Europe/London:20240413T120000
DTEND;TZID=Europe/London:20240413T150000
DTSTAMP:20260421T203737
CREATED:20240228T120245Z
LAST-MODIFIED:20240228T120245Z
UID:67940-1713009600-1713020400@archive.discoverfrome.co.uk
SUMMARY:Jumble Sale
DESCRIPTION:Jumble sale in aid of local charity “Lisa’s Army”.\nClothes\, toys and games\, books and DVDs\, homeware. Also cake sale.\n12pm – 3pm\nEntry 50p\, kids go free. \n
URL:https://archive.discoverfrome.co.uk/event/jumble-sale-6/
LOCATION:South Parade Club\, 7a\, South Parade\, Frome\, BA11 1EJ
CATEGORIES:Charity Event,Discover Frome,Family,Fundraiser
ATTACH;FMTTYPE=image/jpeg:https://archive.discoverfrome.co.uk/wp-content/uploads/2018/11/Jumble-sale.jpg
ORGANIZER;CN="Lisa%27s%20Army":MAILTO:info@lisasarmy.co.uk
END:VEVENT
END:VCALENDAR