BEGIN:VCALENDAR
VERSION:2.0
PRODID:-//Discover Frome - ECPv4.6.26//NONSGML v1.0//EN
CALSCALE:GREGORIAN
METHOD:PUBLISH
X-WR-CALNAME:Discover Frome
X-ORIGINAL-URL:https://archive.discoverfrome.co.uk
X-WR-CALDESC:Events for Discover Frome
BEGIN:VEVENT
DTSTART;TZID=Europe/London:20230519T200000
DTEND;TZID=Europe/London:20230519T200000
DTSTAMP:20260419T235526
CREATED:20230428T173012Z
LAST-MODIFIED:20230428T173029Z
UID:59692-1684526400-1684526400@archive.discoverfrome.co.uk
SUMMARY:Kamilla Arku
DESCRIPTION:The Dusk-Eyed Queen: Music by Women from Africa and the African Diaspora explores the African and African diasporic experience through the works of some of the most exciting composers of the past two centuries. \nThe programme’s diverse women composers fête the cultures of Africa and its diaspora\, painting vivid portraits of their communities while provoking a long overdue re-assessment of the classical canon. \n
URL:https://archive.discoverfrome.co.uk/event/kamilla-arku/
LOCATION:Cooper Hall\, Jack's Lane\, Frome\, BA11 2SR
GEO:51.2434727;-2.3295746
X-APPLE-STRUCTURED-LOCATION;VALUE=URI;X-ADDRESS=Cooper Hall Jack's Lane Frome BA11 2SR;X-APPLE-RADIUS=500;X-TITLE=Jack's Lane:geo:-2.3295746,51.2434727
CATEGORIES:Concert,Discover Frome,Music
ATTACH;FMTTYPE=image/jpeg:https://archive.discoverfrome.co.uk/wp-content/uploads/2023/04/Kamilla-Arku.jpg
ORGANIZER;CN="Cooper%20Hall":MAILTO:info@cooperhall.org
END:VEVENT
END:VCALENDAR