BEGIN:VCALENDAR
VERSION:2.0
PRODID:-//Discover Frome - ECPv4.6.26//NONSGML v1.0//EN
CALSCALE:GREGORIAN
METHOD:PUBLISH
X-WR-CALNAME:Discover Frome
X-ORIGINAL-URL:https://archive.discoverfrome.co.uk
X-WR-CALDESC:Events for Discover Frome
BEGIN:VEVENT
DTSTART;TZID=Europe/London:20250724T193000
DTEND;TZID=Europe/London:20250724T230000
DTSTAMP:20260420T150657
CREATED:20250605T153458Z
LAST-MODIFIED:20250605T153458Z
UID:80934-1753385400-1753398000@archive.discoverfrome.co.uk
SUMMARY:Kate Nash
DESCRIPTION:Iconic\, uncompromising\, and fiercely authentic Kate Nash comes to Frome for a special intimate festival warm-up show you won’t want to miss. \nTickets: C&G Friends Pre-sale Monday 12th May\nGeneral on sale Tuesday 13th May at 10am \nPresented by Gotobeat \nNearly twenty years into her ever-evolving career\, London and LA-based\, Brit award-winning singer\, songwriter\, actor and activist Kate Nash has seen it all. \nShe’s achieved huge commercial success – 2007’s debut Made of Bricks\, featuring the hit single Foundations\, reached number 1 in the UK and spent seven months in the top 40 – seen the darker side of the industry after being dropped in 2012 following 2010’s Bernard Butler-assisted My Best Friend Is You\, forged her own path as a successful independent artist via 2013’s punk-y Girl Talk and 2018’s Yesterday Was Forever\, and starred in HBO’s hit wrestling drama\, GLOW. \nShe’s also been the subject of an award-winning documentary\, Kate Nash: Underestimate the Girl\, and also co-created a musical\, Only Gold\, with Hamilton choreographer Andy Blankenbuehler. Oh\, and she also starred in that too. Still only 36\, Nash isn’t finished shape-shifting just yet; after signing with legendary label Kill Rock Stars\, whose alumni include Nash favourites Elliott Smith and Sleater-Kinney\, in early 2024\, she’ll release her fifth album\, 9 Sad Symphonies\, in June. \n
URL:https://archive.discoverfrome.co.uk/event/kate-nash/
LOCATION:Cheese and Grain\, Market Yard\, Frome\, BA11 1BE
GEO:51.2318708;-2.3202807
X-APPLE-STRUCTURED-LOCATION;VALUE=URI;X-ADDRESS=Cheese and Grain Market Yard Frome BA11 1BE;X-APPLE-RADIUS=500;X-TITLE=Market Yard:geo:-2.3202807,51.2318708
CATEGORIES:Concert,Discover Frome,Live Band,Music,Nightlife
ATTACH;FMTTYPE=image/png:https://archive.discoverfrome.co.uk/wp-content/uploads/2025/06/KN-BANNER-1024x643-1.png
END:VEVENT
END:VCALENDAR