BEGIN:VCALENDAR
VERSION:2.0
PRODID:-//Discover Frome - ECPv4.6.26//NONSGML v1.0//EN
CALSCALE:GREGORIAN
METHOD:PUBLISH
X-WR-CALNAME:Discover Frome
X-ORIGINAL-URL:https://archive.discoverfrome.co.uk
X-WR-CALDESC:Events for Discover Frome
BEGIN:VEVENT
DTSTART;TZID=Europe/London:20250222T193000
DTEND;TZID=Europe/London:20250222T230000
DTSTAMP:20260419T170230
CREATED:20241212T164056Z
LAST-MODIFIED:20241212T164056Z
UID:73479-1740252600-1740265200@archive.discoverfrome.co.uk
SUMMARY:Kenny Thomas
DESCRIPTION:\nThe iconic UK soul-singer and musician\, Kenny Thomas announces his much-anticipated ‘Behind The Groove’ club night\, which for the very first time in his remarkable career\, sees him curate his very own unique club-show\, bringing together the best soulful DJ’s alongside Kenny’s headline show with his A-list band\, performing all his greatest hits and fan favourites.\n\n\n\n\n\nKenny Thomas remains one of the most important and successful UK soul icons of his generation\, with his debut album ‘Voices ’selling 600\,000 copies in the first two weeks alone (double platinum) in 1991\, achieving a total of 8 Top 40 singles and 2 Top 10 records whilst picking up 2 x BRIT-Award Nominations for ‘Best Male Vocalist ’and ‘Best Newcomer’.\n\n\n\nCommenting on the show\, Kenny Thomas says “This is something I have been wanting to do for quite a while now\, so it’s with great excitement I’m bringing some remarkable talent together for a night to celebrate soul music\, music memories and good vibes.“\n\n\n\nThis unmissable soul party ‘Behind the Groove’ comes to the Cheese and Grain in Frome and comes off the back of Kenny’s completely sold-out UK tour in 2023\, so if you’re wanting to hear and celebrate the very best of RnB\, Funk and Soul\, then this night is for you. There will be no party quite like it so do not miss it.\n\n
URL:https://archive.discoverfrome.co.uk/event/kenny-thomas/
LOCATION:Cheese and Grain\, Market Yard\, Frome\, BA11 1BE
GEO:51.2318708;-2.3202807
X-APPLE-STRUCTURED-LOCATION;VALUE=URI;X-ADDRESS=Cheese and Grain Market Yard Frome BA11 1BE;X-APPLE-RADIUS=500;X-TITLE=Market Yard:geo:-2.3202807,51.2318708
CATEGORIES:Concert,Discover Frome,Live Band,Music,Nightlife
ATTACH;FMTTYPE=image/jpeg:https://archive.discoverfrome.co.uk/wp-content/uploads/2024/12/Kenny-Thomas6.jpg
END:VEVENT
END:VCALENDAR