BEGIN:VCALENDAR
VERSION:2.0
PRODID:-//Discover Frome - ECPv4.6.26//NONSGML v1.0//EN
CALSCALE:GREGORIAN
METHOD:PUBLISH
X-WR-CALNAME:Discover Frome
X-ORIGINAL-URL:https://archive.discoverfrome.co.uk
X-WR-CALDESC:Events for Discover Frome
BEGIN:VEVENT
DTSTART;TZID=Europe/London:20240210T110000
DTEND;TZID=Europe/London:20240210T130000
DTSTAMP:20260420T031148
CREATED:20240117T162359Z
LAST-MODIFIED:20240117T162359Z
UID:66975-1707562800-1707570000@archive.discoverfrome.co.uk
SUMMARY:Kimchi workshop with Alex from Somerset Kimchi &Kraut
DESCRIPTION:Come along to this hands- on friendly workshop and learn the secret of making successful and delicious Kimchi with Alex of Somerset Kimchi & Kraut.\nYou will take home your own 1litre jar of Kimchi and all the skills and know how to make more at home. \n
URL:https://archive.discoverfrome.co.uk/event/kimchi-workshop-with-alex-from-somerset-kimchi-kraut/
LOCATION:Vallis Farm\, Egford Hill\, Frome\, BA11 3JQ\, United Kingdom
CATEGORIES:Discover Frome,Food & Drink,Workshop
ATTACH;FMTTYPE=image/png:https://archive.discoverfrome.co.uk/wp-content/uploads/2024/01/kimchi.png
ORGANIZER;CN="Alex%20Carthew":MAILTO:fabfermentation@gmail.com
END:VEVENT
END:VCALENDAR