BEGIN:VCALENDAR
VERSION:2.0
PRODID:-//Discover Frome - ECPv4.6.26//NONSGML v1.0//EN
CALSCALE:GREGORIAN
METHOD:PUBLISH
X-WR-CALNAME:Discover Frome
X-ORIGINAL-URL:https://archive.discoverfrome.co.uk
X-WR-CALDESC:Events for Discover Frome
BEGIN:VEVENT
DTSTART;TZID=Europe/London:20250222T190000
DTEND;TZID=Europe/London:20250222T223000
DTSTAMP:20260419T122721
CREATED:20241212T163811Z
LAST-MODIFIED:20241212T163811Z
UID:73476-1740250800-1740263400@archive.discoverfrome.co.uk
SUMMARY:Liam Helm & The Hang Ups
DESCRIPTION:Organ-charged Frome-based 5-piece Liam Helm & The Hang Ups bring their upbeat arena-bothering indie pop rock songs back to The Tree House following their sold-out headline show in February 2024.  Impossibly musically somewhere between Bruce Springsteen\, Death Cab For Cutie & The Ramones. \nPlease note this is an 18+ event\, and the venue is accessed by stairs with no lift. If you have any enquiries please email thetreehouse@cheeseandgrain.com \n
URL:https://archive.discoverfrome.co.uk/event/liam-helm-the-hang-ups-2/
LOCATION:The Tree House\, 35 Berkley Road\, Frome\, Somerset\, BA11 2EH\, United Kingdom
CATEGORIES:Concert,Discover Frome,Live Band,Music,Nightlife
ATTACH;FMTTYPE=image/jpeg:https://archive.discoverfrome.co.uk/wp-content/uploads/2024/12/Liam-Helm-scaled-1.jpg
END:VEVENT
END:VCALENDAR