BEGIN:VCALENDAR
VERSION:2.0
PRODID:-//Discover Frome - ECPv4.6.26//NONSGML v1.0//EN
CALSCALE:GREGORIAN
METHOD:PUBLISH
X-WR-CALNAME:Discover Frome
X-ORIGINAL-URL:https://archive.discoverfrome.co.uk
X-WR-CALDESC:Events for Discover Frome
BEGIN:VEVENT
DTSTART;TZID=Europe/London:20241020T193000
DTEND;TZID=Europe/London:20241020T230000
DTSTAMP:20260422T061106
CREATED:20240814T125919Z
LAST-MODIFIED:20240814T125919Z
UID:71600-1729452600-1729465200@archive.discoverfrome.co.uk
SUMMARY:Lindisfarne
DESCRIPTION:The Cheese & Grain are delighted to welcome to Frome the legendary 70’s folk-rock pioneers LINDISFARNE\, with a classic five-piece line-up of long-time members fronted by founder-member Rod Clementson vocals\, mandolin\, fiddle and slide guitar. With a repertoire of unforgettable songs like Meet Me On The Corner\, Fog On The Tyne\, Lady Eleanor and Run For Home and a reputation for live performance second to none\, Lindisfarne’s power to galvanize festival and concert audiences remains undimmed and is guaranteed to get the crowd on their feet and singing along.www.lindisfarne.com \nLINDISFARNE 2024 are: \nROD CLEMENTS (1969-present) Vocal\, mandolin\, fiddle\, guitars \nDAVE HULL-DENHOLM (1994-present)Vocal\, guitars \nSTEVE DAGGETT (1986-present) Vocal\, keyboards\, guitars \nIAN THOMSON (1995-present) Bass\, vocal \nPAUL SMITH Drums \n“Lindisfarne were the real surprise package for me at this year’s Towersey Festival. (2017) Notbeing of their generation I had been unsure of just how they would go down\, but they stormed it. Consummate professionals and great musicians\, they surprised me with just how many of theirgreat songs I knew and those that I didn’t felt familiar. Wonderful stage presence and rapport with the Audience; who I should say came in droves to see them. A no-brainer booking for me.One of this year’s festival highlights.”Joe Heap-Director-TOWERSEY FESTIVAL Ltd2017 \n
URL:https://archive.discoverfrome.co.uk/event/lindisfarne-3/
LOCATION:Cheese and Grain\, Market Yard\, Frome\, BA11 1BE
GEO:51.2318708;-2.3202807
X-APPLE-STRUCTURED-LOCATION;VALUE=URI;X-ADDRESS=Cheese and Grain Market Yard Frome BA11 1BE;X-APPLE-RADIUS=500;X-TITLE=Market Yard:geo:-2.3202807,51.2318708
CATEGORIES:Concert,Discover Frome,Live Band,Music,Nightlife
ATTACH;FMTTYPE=image/jpeg:https://archive.discoverfrome.co.uk/wp-content/uploads/2024/08/lindis-1536x828-1.jpg
END:VEVENT
END:VCALENDAR