BEGIN:VCALENDAR
VERSION:2.0
PRODID:-//Discover Frome - ECPv4.6.26//NONSGML v1.0//EN
CALSCALE:GREGORIAN
METHOD:PUBLISH
X-WR-CALNAME:Discover Frome
X-ORIGINAL-URL:https://archive.discoverfrome.co.uk
X-WR-CALDESC:Events for Discover Frome
BEGIN:VEVENT
DTSTART;TZID=Europe/London:20230520T100000
DTEND;TZID=Europe/London:20230520T150000
DTSTAMP:20260420T031030
CREATED:20230504T122341Z
LAST-MODIFIED:20230511T094610Z
UID:59966-1684576800-1684594800@archive.discoverfrome.co.uk
SUMMARY:Local History Day
DESCRIPTION:Come and find out about Frome’s past and those involved with it. \nThe event will see attendance of many individuals and organisations involved in the town’s heritage\, so visitors can learn more about what they do\, ask history-related questions or learn how to research their own family history. \nAlongside the stalls\, there will be a series of ‘taster’ talks\, upstairs in the meeting room. These will last 20 mins each and cover a variety of relevant topics. Speakers and timings will be displayed on the day. \nFROME BLUE DAY\nWhether or not you are attending the Local History Day at Frome Library the festival organisers encourage everyone in the town to wear at least one item of blue clothing on Saturday 20 May. This is to represent the colour of cloth that Frome became famous for during its cloth trade heyday. \nThe first 50 people through the door wearing at least one item of blue clothing will receive a free local history book. \nSTANDS: Frome Fables / Frome Family History Group / Frome Heritage CIC / Frome Museum / Frome Society for Local Study (inc. Civic Society) / Frome Writers Collective (inc. Silver Crow) / Heritage for Health (inc. Frome Heritage Connectors) / Hobnob Press / Home in Frome (Working Memories) / Julian Hight / Keyford Local History Group / Shersca Genealogy / South-West Heritage Trust / Witham Friary History Group.  \n
URL:https://archive.discoverfrome.co.uk/event/local-history-day-2/
LOCATION:Frome Library\, Justice Lane\, Frome\, BA11 1BE
GEO:51.2324194;-2.3206873
X-APPLE-STRUCTURED-LOCATION;VALUE=URI;X-ADDRESS=Frome Library Justice Lane Frome BA11 1BE;X-APPLE-RADIUS=500;X-TITLE=Justice Lane:geo:-2.3206873,51.2324194
CATEGORIES:Discover Frome,Frome Local History Festival,History & Heritage
ATTACH;FMTTYPE=image/jpeg:https://archive.discoverfrome.co.uk/wp-content/uploads/2022/06/Old-photograph-of-Frome-Market-Place.jpg
END:VEVENT
END:VCALENDAR