BEGIN:VCALENDAR
VERSION:2.0
PRODID:-//Discover Frome - ECPv4.6.26//NONSGML v1.0//EN
CALSCALE:GREGORIAN
METHOD:PUBLISH
X-WR-CALNAME:Discover Frome
X-ORIGINAL-URL:https://archive.discoverfrome.co.uk
X-WR-CALDESC:Events for Discover Frome
BEGIN:VEVENT
DTSTART;TZID=Europe/London:20230704T100000
DTEND;TZID=Europe/London:20230712T160000
DTSTAMP:20260419T143152
CREATED:20230522T184007Z
LAST-MODIFIED:20230522T184007Z
UID:60694-1688464800-1689177600@archive.discoverfrome.co.uk
SUMMARY:Local Photographers Exhibition
DESCRIPTION:An interpretation of the Photo Frome festival theme\, ‘Decolonising Environments’ by photographers from Frome Wessex Photographic\, one of the region’s most successful and longstanding camera groups\, and other local photographers. \n
URL:https://archive.discoverfrome.co.uk/event/local-photographers-exhibition/
LOCATION:Frome Town Hall\, Christchurch Street West\, Frome\, BA11 1EB
GEO:51.2291831;-2.323658
X-APPLE-STRUCTURED-LOCATION;VALUE=URI;X-ADDRESS=Frome Town Hall Christchurch Street West Frome BA11 1EB;X-APPLE-RADIUS=500;X-TITLE=Christchurch Street West:geo:-2.323658,51.2291831
CATEGORIES:Arts,Discover Frome,Exhibition,Photo|Frome
ATTACH;FMTTYPE=image/jpeg:https://archive.discoverfrome.co.uk/wp-content/uploads/2017/04/camera.jpg
ORGANIZER;CN="Photo%7CFrome":MAILTO:info@photofrome.org
END:VEVENT
END:VCALENDAR