BEGIN:VCALENDAR
VERSION:2.0
PRODID:-//Discover Frome - ECPv4.6.26//NONSGML v1.0//EN
CALSCALE:GREGORIAN
METHOD:PUBLISH
X-WR-CALNAME:Discover Frome
X-ORIGINAL-URL:https://archive.discoverfrome.co.uk
X-WR-CALDESC:Events for Discover Frome
BEGIN:VEVENT
DTSTART;TZID=Europe/London:20240308T193000
DTEND;TZID=Europe/London:20240308T213000
DTSTAMP:20260419T203112
CREATED:20231214T105611Z
LAST-MODIFIED:20231214T105611Z
UID:65963-1709926200-1709933400@archive.discoverfrome.co.uk
SUMMARY:Lu in Luland
DESCRIPTION:\n‘Self Love Revolution’ – an evening with sex-positive\, sweary\, funny and life-empowering speaker Lu \n\nLou Featherstone aka Luinluland is a Ray of F***ing Sunshine. A Midlife Mindset Shifter. A Positivity Rebel. A Style Coach & Recovering Shopaholic. A Confidence Queen & Leader of the Self Love Revolution. She’s a Bad Feminist\, a Vibrator Advocate & an Accidental Middle Age influencer dedicated to Growing Old Disgracefully. \nLou is driven by a deep sense of purpose to connect humans and empower women to embrace themselves as they are; find their confidence either for the first time or rediscovering it; to tackle life head on; to embrace the fear and find their voice and inner strength. \nJoin Lou on IWD as she takes you with her on her very personal journey to Self Love sharing all the glorious\, hilarious\, painful\, life changing turns. she will give you the tools to Give Less F***s & help you write your own permission slip for life! \n
URL:https://archive.discoverfrome.co.uk/event/lu-in-luland/
LOCATION:Merlin Theatre\, Bath Road\, Frome\, BA11 2HG 
GEO:51.2412644;-2.3118242
X-APPLE-STRUCTURED-LOCATION;VALUE=URI;X-ADDRESS=Merlin Theatre Bath Road Frome BA11 2HG;X-APPLE-RADIUS=500;X-TITLE=Bath Road:geo:-2.3118242,51.2412644
CATEGORIES:Comedy,Discover Frome,Ladies Night,Talk,Women
ATTACH;FMTTYPE=image/jpeg:https://archive.discoverfrome.co.uk/wp-content/uploads/2023/12/lu.jpg
END:VEVENT
END:VCALENDAR